BEGIN:VCALENDAR
VERSION:2.0
METHOD:PUBLISH
PRODID:-//Missouri State University/Calendar of Events//EN
CALSCALE:GREGORIAN
X-WR-TIMEZONE:America/Chicago
BEGIN:VTIMEZONE
TZID:America/Chicago
BEGIN:DAYLIGHT
TZOFFSETFROM:-0600
TZOFFSETTO:-0500
DTSTART:20070311T020000
RRULE:FREQ=YEARLY;BYMONTH=3;BYDAY=2SU
TZNAME:CDT
END:DAYLIGHT
BEGIN:STANDARD
TZOFFSETFROM:-0500
TZOFFSETTO:-0600
DTSTART:20071104T020000
RRULE:FREQ=YEARLY;BYMONTH=11;BYDAY=1SU
TZNAME:CST
END:STANDARD
END:VTIMEZONE
BEGIN:VEVENT
UID:ee4b1325-20f1-4881-a7b1-22c1e51c53b7.221890@calendar.missouristate.edu
CREATED:20221004T154808Z
LAST-MODIFIED:20221004T154808Z
LOCATION:Pummill Hall 207
SUMMARY:Writing for Business Workshop
DESCRIPTION:In the workplace\, your communication skills—both written and 
 verbal—can help or hinder your performance. Whether it is writing a repor
 t or delivering a presentation\, your ability to convey ideas and message
 s clearly\, succinctly and with conviction establishes a connection with 
 others and leaves a positive impression. This 90-minute session will help
  you communicate better in conversations\, presentations\, letters\, emai
 ls and reports.\n\n\nThis workshop is sponsored by Human Resources\, Orga
 nizational and Talent Development and the Office of University Communicat
 ions. \n\n\nPresenter:  Emily YeapFor registration information visit My L
 earning Connection.
X-ALT-DESC;FMTTYPE=text/html:&lt;html&gt;&lt;head&gt;&lt;title&gt;&lt;/title&gt;&lt;/head&gt;&lt;body&gt;&lt;p&gt;In
  the workplace\, your communication skills—both written and verbal—can he
 lp or hinder your performance. Whether it is writing a report or deliveri
 ng a presentation\, your ability to convey ideas and messages clearly\, s
 uccinctly and with conviction establishes a connection with others and le
 aves a positive impression. This 90-minute session will help you communic
 ate better in conversations\, presentations\, letters\, emails and report
 s.&lt;/p&gt;\n&lt;p&gt;This workshop is sponsored by Human Resources\, Organizational
  and Talent Development and the Office of University Communications.&amp;nbsp
 \;&lt;/p&gt;\n&lt;p&gt;Presenter:&amp;nbsp\; Emily Yeap&lt;br&gt;&lt;br&gt;For registration informati
 on visit &lt;a href="https://my.missouristate.edu/web/home-community"&gt;My Lea
 rning Connection&lt;/a&gt;.&lt;/p&gt;&lt;/body&gt;&lt;/html&gt;
DTSTART;TZID=America/Chicago:20221012T100000
DTEND;TZID=America/Chicago:20221012T113000
SEQUENCE:0
URL:107063.jpg
CATEGORIES:Faculty,Staff
END:VEVENT
END:VCALENDAR