BEGIN:VCALENDAR
VERSION:2.0
METHOD:PUBLISH
PRODID:-//Missouri State University/Calendar of Events//EN
CALSCALE:GREGORIAN
X-WR-TIMEZONE:America/Chicago
BEGIN:VTIMEZONE
TZID:America/Chicago
BEGIN:DAYLIGHT
TZOFFSETFROM:-0600
TZOFFSETTO:-0500
DTSTART:20070311T020000
RRULE:FREQ=YEARLY;BYMONTH=3;BYDAY=2SU
TZNAME:CDT
END:DAYLIGHT
BEGIN:STANDARD
TZOFFSETFROM:-0500
TZOFFSETTO:-0600
DTSTART:20071104T020000
RRULE:FREQ=YEARLY;BYMONTH=11;BYDAY=1SU
TZNAME:CST
END:STANDARD
END:VTIMEZONE
BEGIN:VEVENT
UID:ba21e129-6379-4710-af8e-907da7a6e412.228642@calendar.missouristate.edu
CREATED:20200519T214653Z
LAST-MODIFIED:20200519T214653Z
LOCATION:To Be Determined
SUMMARY:MarooNation Ball Springfield 2023
DESCRIPTION:The MarooNation Ball is an unforgettable celebration for a gre
 at cause. All proceeds will go toward supporting Missouri State Universit
 y Bears.
X-ALT-DESC;FMTTYPE=text/html:&lt;html&gt;&lt;head&gt;&lt;title&gt;&lt;/title&gt;&lt;/head&gt;&lt;body&gt;&lt;p&gt;Th
 e MarooNation Ball is an unforgettable celebration for a great cause. All
  proceeds will go toward supporting Missouri State University Bears.&lt;/p&gt;&lt;
 /body&gt;&lt;/html&gt;
DTSTART;TZID=America/Chicago:20231006T180000
DTEND;TZID=America/Chicago:20231006T230000
SEQUENCE:0
URL:https://missouristate.imodules.com?sid=1691&amp;gid=2&amp;pgid=2064&amp;cid=3776&amp;e
 cid=3776&amp;ciid=19772&amp;crid=0
CATEGORIES:Public,Alumni,Parents and Family,Visitors
END:VEVENT
END:VCALENDAR