BEGIN:VCALENDAR
VERSION:2.0
METHOD:PUBLISH
PRODID:-//Missouri State University/Calendar of Events//EN
CALSCALE:GREGORIAN
X-WR-TIMEZONE:America/Chicago
BEGIN:VTIMEZONE
TZID:America/Chicago
BEGIN:DAYLIGHT
TZOFFSETFROM:-0600
TZOFFSETTO:-0500
DTSTART:20070311T020000
RRULE:FREQ=YEARLY;BYMONTH=3;BYDAY=2SU
TZNAME:CDT
END:DAYLIGHT
BEGIN:STANDARD
TZOFFSETFROM:-0500
TZOFFSETTO:-0600
DTSTART:20071104T020000
RRULE:FREQ=YEARLY;BYMONTH=11;BYDAY=1SU
TZNAME:CST
END:STANDARD
END:VTIMEZONE
BEGIN:VEVENT
UID:d4544356-83ad-49c6-9b53-d44417897a44.221891@calendar.missouristate.edu
CREATED:20220825T190322Z
LAST-MODIFIED:20220825T190322Z
LOCATION:Plaster Student Union\, Robert W. 313
SUMMARY:Seven Powerful Practices to Lead Yourself
DESCRIPTION:This inspiring and motivating training will cover seven powerf
 ul practices that will help you lead and manage yourself. You hold the ke
 y to your success.  Your thinking\, your leadership\, your self-improveme
 nt\, your time management\, your execution all determine your success in 
 life and career. \n\n\nJoin us for this 2 1/2 session in discovering the 
 power in leading yourself.\n\n\nFacilitator:  Dan Shaffer\n\n\nSponsored 
 by Organizational and Talent Development\, HR\n\n\nFor more information a
 nd to register\, visit My Learning Connection.
X-ALT-DESC;FMTTYPE=text/html:&lt;html&gt;&lt;head&gt;&lt;title&gt;&lt;/title&gt;&lt;/head&gt;&lt;body&gt;&lt;p&gt;Th
 is inspiring and motivating training will cover seven powerful practices 
 that will help you lead and manage yourself. You hold the key to your suc
 cess.&amp;nbsp\; Your thinking\, your leadership\, your self-improvement\, yo
 ur time management\, your execution all determine your success in life an
 d career.&amp;nbsp\;&lt;/p&gt;\n&lt;p&gt;Join us for this 2 1/2 session in discovering th
 e power in leading yourself.&lt;/p&gt;\n&lt;p&gt;Facilitator:&amp;nbsp\; Dan Shaffer&lt;/p&gt;\
 n&lt;p&gt;&lt;span&gt;Sponsored by Organizational and Talent Development\, HR&lt;/span&gt;&lt;
 /p&gt;\n&lt;p&gt;For more information and to register\, visit&amp;nbsp\;&lt;a href="https
 ://cas.missouristate.edu/cas/login?service=https%3A%2F%2Fmy.missouristate
 .edu%2Fc%2Fportal%2Flogin"&gt;My Learning Connection.&lt;/a&gt;&lt;/p&gt;&lt;/body&gt;&lt;/html&gt;
DTSTART;TZID=America/Chicago:20221020T093000
DTEND;TZID=America/Chicago:20221020T120000
SEQUENCE:0
URL:107532.jpg
CATEGORIES:Faculty,Staff
END:VEVENT
END:VCALENDAR