BEGIN:VCALENDAR
VERSION:2.0
METHOD:PUBLISH
PRODID:-//Missouri State University/Calendar of Events//EN
CALSCALE:GREGORIAN
X-WR-TIMEZONE:America/Chicago
BEGIN:VTIMEZONE
TZID:America/Chicago
BEGIN:DAYLIGHT
TZOFFSETFROM:-0600
TZOFFSETTO:-0500
DTSTART:20070311T020000
RRULE:FREQ=YEARLY;BYMONTH=3;BYDAY=2SU
TZNAME:CDT
END:DAYLIGHT
BEGIN:STANDARD
TZOFFSETFROM:-0500
TZOFFSETTO:-0600
DTSTART:20071104T020000
RRULE:FREQ=YEARLY;BYMONTH=11;BYDAY=1SU
TZNAME:CST
END:STANDARD
END:VTIMEZONE
BEGIN:VEVENT
UID:e88a5b80-f05e-4292-972f-7abb50802e11.216794@calendar.missouristate.edu
CREATED:20210623T132130Z
LAST-MODIFIED:20210623T132130Z
LOCATION:To Be Determined
SUMMARY:Assessment Council
DESCRIPTION:Assessment Council is an advisory committee to the Provost com
 prising at least two representatives from each college. Current membershi
 p includes 35 members who represent 25 curricular and co-curricular depar
 tments and offices across campus. \n\n\nOur purpose is to provide informa
 tion\, advice and counsel to the Office of the Provost in matters of asse
 ssment. The council will support the director of assessment in the charge
  to administer a comprehensive\, continual\, multidimensional assessment 
 program of student learning outcomes and evaluation of academic programs\
 , collaborating with campus units to integrate assessment and evaluation 
 efforts across campus\, and integrating assessment activities and results
  with accreditation processes. This includes\, but is not limited to 1) m
 onitoring the Higher Learning Commission Quality Initiative Project (QIP)
  assessment process\; (2) reviewing current assessment tools used to asse
 ss institutional goals\; (3) planning and implementing assessment trainin
 g programs for the campus\; (4) reviewing program-level assessment plans\
 ; and (5) supporting general education program assessments.  
X-ALT-DESC;FMTTYPE=text/html:&lt;html&gt;&lt;head&gt;&lt;title&gt;&lt;/title&gt;&lt;/head&gt;&lt;body&gt;&lt;p&gt;&lt;s
 pan&gt;Assessment Council is an advisory committee to the Provost&amp;nbsp\;comp
 rising at least two representatives from each college. Current membership
  includes 35 members who represent 25 curricular and co-curricular depart
 ments and offices across campus.&amp;nbsp\;&lt;/span&gt;&lt;/p&gt;\n&lt;p&gt;&lt;span&gt;Our purpose 
 is to provide information\, advice and counsel to the Office of the Provo
 st in matters of assessment. The council will support the director of ass
 essment in the charge to administer a comprehensive\, continual\, multidi
 mensional assessment program of student learning outcomes and evaluation 
 of academic programs\, collaborating with campus units to integrate asses
 sment and evaluation efforts across campus\, and integrating assessment a
 ctivities and results with accreditation processes. This includes\, but i
 s not limited to 1) monitoring the Higher Learning Commission Quality Ini
 tiative Project (QIP) assessment process\; (2) reviewing current assessme
 nt tools used to assess institutional goals\; (3) planning and implementi
 ng assessment training programs for the campus\; (4) reviewing program-le
 vel assessment plans\; and (5) supporting general education program asses
 sments.&amp;nbsp\;&amp;nbsp\;&lt;/span&gt;&lt;span&gt;&lt;/span&gt;&lt;/p&gt;&lt;/body&gt;&lt;/html&gt;
DTSTART;TZID=America/Chicago:20210921T100000
DTEND;TZID=America/Chicago:20210921T110000
SEQUENCE:0
URL:
CATEGORIES:Faculty
END:VEVENT
END:VCALENDAR