BEGIN:VCALENDAR
VERSION:2.0
METHOD:PUBLISH
PRODID:-//Missouri State University/Calendar of Events//EN
CALSCALE:GREGORIAN
X-WR-TIMEZONE:America/Chicago
BEGIN:VTIMEZONE
TZID:America/Chicago
BEGIN:DAYLIGHT
TZOFFSETFROM:-0600
TZOFFSETTO:-0500
DTSTART:20070311T020000
RRULE:FREQ=YEARLY;BYMONTH=3;BYDAY=2SU
TZNAME:CDT
END:DAYLIGHT
BEGIN:STANDARD
TZOFFSETFROM:-0500
TZOFFSETTO:-0600
DTSTART:20071104T020000
RRULE:FREQ=YEARLY;BYMONTH=11;BYDAY=1SU
TZNAME:CST
END:STANDARD
END:VTIMEZONE
BEGIN:VEVENT
UID:3cb07185-2073-4d57-a16c-7971b2b8a2dd.217325@calendar.missouristate.edu
CREATED:20210820T051517Z
LAST-MODIFIED:20210820T051517Z
LOCATION:Paducah\, Ky.
SUMMARY:Missouri State University Men's Golf vs Missouri Valley Conference
  Championship
DESCRIPTION:Missouri State University Men's Golf plays Missouri Valley Con
 ference Championship
X-ALT-DESC;FMTTYPE=text/html:&lt;html&gt;&lt;head&gt;&lt;title&gt;&lt;/title&gt;&lt;/head&gt;&lt;body&gt;Misso
 uri State University Men's Golf plays Missouri Valley Conference Champion
 ship&lt;/body&gt;&lt;/html&gt;
DTSTART;TZID=America/Chicago:20220425T080000
DTEND;TZID=America/Chicago:20220425T000000
SEQUENCE:0
URL:http://missouristatebears.com/index.aspx?path=mgolf
CATEGORIES:Current Students,Future Students,Parents and Family,Alumni,
 Faculty,Staff,Community,Visitors,Athletics
END:VEVENT
END:VCALENDAR