BEGIN:VCALENDAR
VERSION:2.0
METHOD:PUBLISH
PRODID:-//Missouri State University/Calendar of Events//EN
CALSCALE:GREGORIAN
X-WR-TIMEZONE:America/Chicago
BEGIN:VTIMEZONE
TZID:America/Chicago
BEGIN:DAYLIGHT
TZOFFSETFROM:-0600
TZOFFSETTO:-0500
DTSTART:20070311T020000
RRULE:FREQ=YEARLY;BYMONTH=3;BYDAY=2SU
TZNAME:CDT
END:DAYLIGHT
BEGIN:STANDARD
TZOFFSETFROM:-0500
TZOFFSETTO:-0600
DTSTART:20071104T020000
RRULE:FREQ=YEARLY;BYMONTH=11;BYDAY=1SU
TZNAME:CST
END:STANDARD
END:VTIMEZONE
BEGIN:VEVENT
UID:b4ea91db-9d08-41df-aa55-0068699670f7.218348@calendar.missouristate.edu
CREATED:20220125T212627Z
LAST-MODIFIED:20220125T212627Z
LOCATION:Plaster Student Union\, Robert W. Theater
SUMMARY:Public Affairs Convocation
DESCRIPTION:Shaun Tomson\, author\, writer\, producer and world surfing ch
 ampion\, will speak in person about the power of finding your voice and t
 he determination to achieve your goals.    \n\n\nFree and open to the pub
 lic. No ticket required.\n\n\nTomson is the author of the 2021-22 Univers
 ity Common Reader\, The Code: The Power of "I Will."  \n\n\nThe Code: The
  Power of "I Will"\n\n\nBy Shaun Tomson with Patrick Moser\n\nHow to conv
 ert the power of “I Will” into a life-changing mantra\n\n\nThe 12 stories
  in this book\, taken from Tomson’s own life experiences in and out of th
 e surfing world\, offer the simple message "I Will" as a model to face li
 fe’s challenges and help you achieve your goals. All you need is to be en
 couraged to find your voice and commit yourself to positive values. The s
 tories resonate with positivity and hope for the future\, and are infused
  with the belief that even in the darkest time\, light shines ahead to sh
 ow you the way forward.
X-ALT-DESC;FMTTYPE=text/html:&lt;html&gt;&lt;head&gt;&lt;title&gt;&lt;/title&gt;&lt;/head&gt;&lt;body&gt;&lt;p&gt;&lt;a
  href="https://publicaffairs.missouristate.edu/Convocation/shaun-tomson.h
 tm"&gt;Shaun Tomson&lt;/a&gt;\, author\, writer\, producer and world surfing champ
 ion\, will speak in person about the power of finding your voice and the 
 determination to achieve your goals.&amp;nbsp\; &amp;nbsp\;&amp;nbsp\;&lt;/p&gt;\n&lt;p&gt;Free a
 nd open to the public. No ticket required.&lt;/p&gt;\n&lt;p&gt;&lt;em&gt;Tomson&amp;nbsp\;is th
 e author of the 2021-22 University Common Reader\, The Code: The Power of
  "I Will."&amp;nbsp\;&amp;nbsp\;&lt;/em&gt;&lt;/p&gt;\n&lt;p&gt;&lt;strong&gt;The Code: The Power of "I W
 ill"&lt;/strong&gt;&lt;/p&gt;\n&lt;div&gt;By Shaun Tomson with Patrick Moser&lt;/div&gt;\n&lt;div&gt;\n
 &lt;p&gt;How to convert the power of “I Will” into a life-changing mantra&lt;/p&gt;\n
 &lt;p&gt;The&amp;nbsp\;12 stories in this book\, taken from Tomson’s own life exper
 iences in and out of the surfing world\, offer the simple message "I Will
 " as a model to face life’s challenges and help you achieve your goals. A
 ll you need is to be encouraged to find your voice and commit yourself to
  positive values. The stories resonate with positivity and hope for the f
 uture\, and are infused with the belief that even in the darkest time\, l
 ight shines ahead to show you the way forward.&lt;/p&gt;\n&lt;/div&gt;&lt;/body&gt;&lt;/html&gt;
DTSTART;TZID=America/Chicago:20220406T153000
DTEND;TZID=America/Chicago:20220406T163000
SEQUENCE:1
URL:https://publicaffairs.missouristate.edu/Convocation/default.htm
CATEGORIES:Public,Alumni,Current Students,Faculty,Future Students,Staff
END:VEVENT
END:VCALENDAR