BEGIN:VCALENDAR
VERSION:2.0
METHOD:PUBLISH
PRODID:-//Missouri State University/Calendar of Events//EN
CALSCALE:GREGORIAN
X-WR-TIMEZONE:America/Chicago
BEGIN:VTIMEZONE
TZID:America/Chicago
BEGIN:DAYLIGHT
TZOFFSETFROM:-0600
TZOFFSETTO:-0500
DTSTART:20070311T020000
RRULE:FREQ=YEARLY;BYMONTH=3;BYDAY=2SU
TZNAME:CDT
END:DAYLIGHT
BEGIN:STANDARD
TZOFFSETFROM:-0500
TZOFFSETTO:-0600
DTSTART:20071104T020000
RRULE:FREQ=YEARLY;BYMONTH=11;BYDAY=1SU
TZNAME:CST
END:STANDARD
END:VTIMEZONE
BEGIN:VEVENT
UID:84b88556-ae2d-4976-8738-42b05410680f.218365@calendar.missouristate.edu
CREATED:20211028T144959Z
LAST-MODIFIED:20211028T144959Z
LOCATION:635 E. St. Louis St.\, Springfield\, MO
SUMMARY:Career Expo 2022
DESCRIPTION:It's a job seeker's market ... come to the Career Fair to find
  out about all the job opportunities out there!\n\n\nCareer Expo 2022 is 
 an all majors Career Fair.\n\n\nRecruiters from businesses\, government a
 gencies\, health organizations\, construction and manufacturing companies
 \, nonprofit organizations\, public and private school systems\, and grad
 uate schools are invited to attend this major hiring event.\n\n\nCome pre
 pared to meet with a variety of employers from various industries as they
  will be recruiting for internships and full-time positions. It's also a 
 great networking opportunity for down-the-road future employers!
X-ALT-DESC;FMTTYPE=text/html:&lt;html&gt;&lt;head&gt;&lt;title&gt;&lt;/title&gt;&lt;/head&gt;&lt;body&gt;&lt;p&gt;It
 's a job seeker's market ... come to the Career Fair to find out about al
 l the job opportunities out there!&lt;/p&gt;\n&lt;p&gt;&lt;strong&gt;Career Expo 2022&lt;/stro
 ng&gt; is an all majors Career Fair.&lt;/p&gt;\n&lt;p&gt;Recruiters from businesses\, go
 vernment agencies\, health organizations\, construction and manufacturing
  companies\, nonprofit organizations\, public and private school systems\
 , and graduate schools are invited to attend this major hiring event.&lt;/p&gt;
 \n&lt;p&gt;Come prepared to meet with a variety of employers from various indus
 tries as they will be recruiting for internships and full-time positions.
  It's also a great networking opportunity for down-the-road future employ
 ers!&lt;/p&gt;&lt;/body&gt;&lt;/html&gt;
DTSTART;TZID=America/Chicago:20220407T110000
DTEND;TZID=America/Chicago:20220407T150000
SEQUENCE:2
URL:https://careercenter.missouristate.edu/
CATEGORIES:Alumni,Current Students,Faculty,Staff
END:VEVENT
END:VCALENDAR