BEGIN:VCALENDAR
VERSION:2.0
METHOD:PUBLISH
PRODID:-//Missouri State University/Calendar of Events//EN
CALSCALE:GREGORIAN
X-WR-TIMEZONE:America/Chicago
BEGIN:VTIMEZONE
TZID:America/Chicago
BEGIN:DAYLIGHT
TZOFFSETFROM:-0600
TZOFFSETTO:-0500
DTSTART:20070311T020000
RRULE:FREQ=YEARLY;BYMONTH=3;BYDAY=2SU
TZNAME:CDT
END:DAYLIGHT
BEGIN:STANDARD
TZOFFSETFROM:-0500
TZOFFSETTO:-0600
DTSTART:20071104T020000
RRULE:FREQ=YEARLY;BYMONTH=11;BYDAY=1SU
TZNAME:CST
END:STANDARD
END:VTIMEZONE
BEGIN:VEVENT
UID:ed1a03a7-9301-4fbb-9282-a9f8d68b66ed.218490@calendar.missouristate.edu
CREATED:20211026T200221Z
LAST-MODIFIED:20211026T200221Z
LOCATION:Meyer Alumni Center\, Kenneth E. 314B
SUMMARY:Grant Writing From Good to Great
DESCRIPTION:This course will give seasoned grant writers and newcomers the
  chance to understand and practice the essentials of writing grant propos
 als in an interactive and creative workshop.\n\n\nFrom writing\, research
  and learning how to locate funding sources to grant writing tips and tut
 orials that have taken years of our expertise to cultivate\, discover all
  these and more. Let our insight into the vast resources\, grant search a
 nd grant writing strategies benefit your organization. In addition\, you 
 will learn how to pursue grant funds. This is a course not to be missed. 
 \n\n\nAgenda\n\n\n\n9-9:30 a.m. (Welcome &amp; Introductions)\n9:30-10:30 a.m
 . (The Grant Writing Process Using Logic Models)\n10:30-11:30 a.m. (The G
 rant Writing Format\, Part 1)\n11:30 a.m.-12 p.m. (Finding Good Funding O
 pportunities)\n12-12:30 p.m. (Lunch)\n12:30-1:30 p.m. (The Grant Writing 
 Format\, Part 2)\n1:30-2:30 p.m. (Working Together &amp; Refining Proposals)\
 n2:30-3 p.m. (Questions &amp; Rubric Description)
X-ALT-DESC;FMTTYPE=text/html:&lt;html&gt;&lt;head&gt;&lt;title&gt;&lt;/title&gt;&lt;/head&gt;&lt;body&gt;&lt;p&gt;Th
 is course will&amp;nbsp\;give seasoned grant writers and newcomers the chance
  to understand and practice the essentials of writing grant proposals in 
 an interactive and creative workshop.&lt;/p&gt;\n&lt;p&gt;From writing\, research and
  learning how to locate funding sources to grant writing tips and tutoria
 ls that have taken years of our expertise to cultivate\, discover all the
 se and more.&amp;nbsp\;Let our insight into the vast resources\, grant search
  and grant writing strategies benefit your organization. In addition\, yo
 u will learn how to pursue grant funds. This is a course not to be missed
 .&amp;nbsp\;&lt;/p&gt;\n&lt;p&gt;&lt;strong&gt;Agenda&lt;/strong&gt;&lt;/p&gt;\n&lt;ul&gt;\n&lt;li&gt;9-9:30 a.m. (Welc
 ome &amp;amp\; Introductions)&lt;/li&gt;\n&lt;li&gt;9:30-10:30 a.m. (The Grant Writing Pr
 ocess Using Logic Models)&lt;/li&gt;\n&lt;li&gt;10:30-11:30 a.m. (The Grant Writing F
 ormat\, Part 1)&lt;/li&gt;\n&lt;li&gt;11:30 a.m.-12 p.m. (Finding Good Funding Opport
 unities)&lt;/li&gt;\n&lt;li&gt;12-12:30 p.m. (Lunch)&lt;/li&gt;\n&lt;li&gt;12:30-1:30 p.m. (The G
 rant Writing Format\, Part 2)&lt;/li&gt;\n&lt;li&gt;1:30-2:30 p.m. (Working Together 
 &amp;amp\; Refining Proposals)&lt;/li&gt;\n&lt;li&gt;2:30-3 p.m. (Questions &amp;amp\; Rubric
  Description)&lt;/li&gt;\n&lt;/ul&gt;&lt;/body&gt;&lt;/html&gt;
DTSTART;TZID=America/Chicago:20220401T090000
DTEND;TZID=America/Chicago:20220401T150000
SEQUENCE:0
URL:http://noncredit.missouristate.edu/greatgrantwriting.htm
CATEGORIES:Public,Alumni,Community,Current Students,Faculty,
 Family Of Students,Future Students,Staff
END:VEVENT
END:VCALENDAR