BEGIN:VCALENDAR
VERSION:2.0
METHOD:PUBLISH
PRODID:-//Missouri State University/Calendar of Events//EN
CALSCALE:GREGORIAN
X-WR-TIMEZONE:America/Chicago
BEGIN:VTIMEZONE
TZID:America/Chicago
BEGIN:DAYLIGHT
TZOFFSETFROM:-0600
TZOFFSETTO:-0500
DTSTART:20070311T020000
RRULE:FREQ=YEARLY;BYMONTH=3;BYDAY=2SU
TZNAME:CDT
END:DAYLIGHT
BEGIN:STANDARD
TZOFFSETFROM:-0500
TZOFFSETTO:-0600
DTSTART:20071104T020000
RRULE:FREQ=YEARLY;BYMONTH=11;BYDAY=1SU
TZNAME:CST
END:STANDARD
END:VTIMEZONE
BEGIN:VEVENT
UID:5715c45b-df83-4def-a9dc-e1aaae73835d.218559@calendar.missouristate.edu
CREATED:20211111T222216Z
LAST-MODIFIED:20211111T222216Z
LOCATION:https://springfieldexpo.com/
SUMMARY:Education Career Fair
DESCRIPTION:The Education Career Fair is for any students and alumni inter
 ested in teaching positions\, speech therapy\, school counseling and admi
 nistration in a K-12 school setting.  \n\n\nCome prepared to meet with re
 presentatives from a variety of school districts in Missouri and beyond.
X-ALT-DESC;FMTTYPE=text/html:&lt;html&gt;&lt;head&gt;&lt;title&gt;&lt;/title&gt;&lt;/head&gt;&lt;body&gt;&lt;p&gt;Th
 e&lt;strong&gt; Education Career Fair&lt;/strong&gt;&amp;nbsp\;is for any students and al
 umni interested in teaching positions\, speech therapy\, school counselin
 g and administration in a K-12 school setting.&amp;nbsp\;&amp;nbsp\;&lt;/p&gt;\n&lt;p&gt;Come
  prepared to meet with representatives from a variety of school districts
  in Missouri and beyond.&lt;/p&gt;\n&lt;p&gt;&lt;/p&gt;&lt;/body&gt;&lt;/html&gt;
DTSTART;TZID=America/Chicago:20220407T110000
DTEND;TZID=America/Chicago:20220407T150000
SEQUENCE:1
URL:https://careercenter.missouristate.edu/Career-fairs.htm
CATEGORIES:Alumni,Current Students
END:VEVENT
END:VCALENDAR