BEGIN:VCALENDAR
VERSION:2.0
METHOD:PUBLISH
PRODID:-//Missouri State University/Calendar of Events//EN
CALSCALE:GREGORIAN
X-WR-TIMEZONE:America/Chicago
BEGIN:VTIMEZONE
TZID:America/Chicago
BEGIN:DAYLIGHT
TZOFFSETFROM:-0600
TZOFFSETTO:-0500
DTSTART:20070311T020000
RRULE:FREQ=YEARLY;BYMONTH=3;BYDAY=2SU
TZNAME:CDT
END:DAYLIGHT
BEGIN:STANDARD
TZOFFSETFROM:-0500
TZOFFSETTO:-0600
DTSTART:20071104T020000
RRULE:FREQ=YEARLY;BYMONTH=11;BYDAY=1SU
TZNAME:CST
END:STANDARD
END:VTIMEZONE
BEGIN:VEVENT
UID:d0608da9-a1c0-481f-99f0-9c16fae7c678.218645@calendar.missouristate.edu
CREATED:20211119T174137Z
LAST-MODIFIED:20211119T174137Z
LOCATION:Blair-Shannon House Dining Center
SUMMARY:President's Breakfast
DESCRIPTION:President's Breakfast is a campus tradition at Missouri State 
 University\, sponsored by Residence Life\, Housing and Dining Services.\n
 \n\nJoin us for a late-night study break\, music\, prizes and a hot break
 fast served by President Smart and university administrators.\n\n\nDoor p
 rizes will include Dining Dollars\, Bookstore gift cards and more! Prizes
  are sponsored by Residence Life\, Housing and Dining Services\, with tha
 nks to our partners at the Missouri State Bookstore and Dining Services.\
 n\n\nFree to students. You must have your BearPass ID to enter.
X-ALT-DESC;FMTTYPE=text/html:&lt;html&gt;&lt;head&gt;&lt;title&gt;&lt;/title&gt;&lt;/head&gt;&lt;body&gt;&lt;p&gt;Pr
 esident's Breakfast is a campus tradition at Missouri State University\, 
 sponsored by Residence Life\, Housing and Dining Services.&lt;/p&gt;\n&lt;p&gt;Join u
 s for a late-night study break\, music\, prizes and a hot breakfast serve
 d by President Smart and university administrators.&lt;/p&gt;\n&lt;p&gt;Door prizes w
 ill include Dining Dollars\, Bookstore gift cards and more! Prizes are sp
 onsored by Residence Life\, Housing and Dining Services\, with thanks to 
 our partners at the Missouri State Bookstore and Dining Services.&lt;/p&gt;\n&lt;p
 &gt;Free to students. You must have your BearPass ID to enter.&lt;/p&gt;&lt;/body&gt;&lt;/h
 tml&gt;
DTSTART;TZID=America/Chicago:20220516T210000
DTEND;TZID=America/Chicago:20220516T230000
SEQUENCE:0
URL:115060.jpg
CATEGORIES:Current Students
END:VEVENT
END:VCALENDAR