BEGIN:VCALENDAR
VERSION:2.0
METHOD:PUBLISH
PRODID:-//Missouri State University/Calendar of Events//EN
CALSCALE:GREGORIAN
X-WR-TIMEZONE:America/Chicago
BEGIN:VTIMEZONE
TZID:America/Chicago
BEGIN:DAYLIGHT
TZOFFSETFROM:-0600
TZOFFSETTO:-0500
DTSTART:20070311T020000
RRULE:FREQ=YEARLY;BYMONTH=3;BYDAY=2SU
TZNAME:CDT
END:DAYLIGHT
BEGIN:STANDARD
TZOFFSETFROM:-0500
TZOFFSETTO:-0600
DTSTART:20071104T020000
RRULE:FREQ=YEARLY;BYMONTH=11;BYDAY=1SU
TZNAME:CST
END:STANDARD
END:VTIMEZONE
BEGIN:VEVENT
UID:5377c691-67b4-4be8-9ff8-a53f03d126f3.219242@calendar.missouristate.edu
CREATED:20211215T161125Z
LAST-MODIFIED:20211215T161125Z
LOCATION:
SUMMARY:Spring Family Day at Hammons Field
DESCRIPTION:Make plans to attend Spring Family Day at Hammons Field. Join 
 us as we cheer our Baseball Bears on to victory. Gates will open at 1 p.m
 . Tickets will go on sale in late January 2022.
X-ALT-DESC;FMTTYPE=text/html:&lt;html&gt;&lt;head&gt;&lt;title&gt;&lt;/title&gt;&lt;/head&gt;&lt;body&gt;&lt;p&gt;&lt;s
 pan dir="auto"&gt;Make plans to attend Spring Family Day at Hammons Field. J
 oin us as we cheer our Baseball Bears on to victory. Gates will open at 1
  p.m. Tickets will go on sale in late January 2022. &lt;/span&gt;&lt;/p&gt;&lt;/body&gt;&lt;/h
 tml&gt;
DTSTART;TZID=America/Chicago:20220326T140000
DTEND;TZID=America/Chicago:20220326T180000
SEQUENCE:0
URL:http://www.missouristate.edu/bearsfamilies
CATEGORIES:Public,Alumni,Current Students,Faculty,Future Students,Staff
END:VEVENT
END:VCALENDAR