BEGIN:VCALENDAR
VERSION:2.0
METHOD:PUBLISH
PRODID:-//Missouri State University/Calendar of Events//EN
CALSCALE:GREGORIAN
X-WR-TIMEZONE:America/Chicago
BEGIN:VTIMEZONE
TZID:America/Chicago
BEGIN:DAYLIGHT
TZOFFSETFROM:-0600
TZOFFSETTO:-0500
DTSTART:20070311T020000
RRULE:FREQ=YEARLY;BYMONTH=3;BYDAY=2SU
TZNAME:CDT
END:DAYLIGHT
BEGIN:STANDARD
TZOFFSETFROM:-0500
TZOFFSETTO:-0600
DTSTART:20071104T020000
RRULE:FREQ=YEARLY;BYMONTH=11;BYDAY=1SU
TZNAME:CST
END:STANDARD
END:VTIMEZONE
BEGIN:VEVENT
UID:29693d7d-0018-47ad-a327-c5af28316f78.219414@calendar.missouristate.edu
CREATED:20220112T061516Z
LAST-MODIFIED:20220112T061516Z
LOCATION:Normal\, Ill.
SUMMARY:Missouri State University Women's Tennis at Illinois State
DESCRIPTION:Missouri State University Women's Tennis visits Illinois State
X-ALT-DESC;FMTTYPE=text/html:&lt;html&gt;&lt;head&gt;&lt;title&gt;&lt;/title&gt;&lt;/head&gt;&lt;body&gt;Misso
 uri State University Women's Tennis visits Illinois State &lt;/body&gt;&lt;/html&gt;
DTSTART;TZID=America/Chicago:20220403T110000
DTEND;TZID=America/Chicago:20220403T140000
SEQUENCE:0
URL:http://missouristatebears.com/index.aspx?path=wten
CATEGORIES:Current Students,Future Students,Parents and Family,Alumni,
 Faculty,Staff,Community,Visitors,Athletics
END:VEVENT
END:VCALENDAR