BEGIN:VCALENDAR
VERSION:2.0
METHOD:PUBLISH
PRODID:-//Missouri State University/Calendar of Events//EN
CALSCALE:GREGORIAN
X-WR-TIMEZONE:America/Chicago
BEGIN:VTIMEZONE
TZID:America/Chicago
BEGIN:DAYLIGHT
TZOFFSETFROM:-0600
TZOFFSETTO:-0500
DTSTART:20070311T020000
RRULE:FREQ=YEARLY;BYMONTH=3;BYDAY=2SU
TZNAME:CDT
END:DAYLIGHT
BEGIN:STANDARD
TZOFFSETFROM:-0500
TZOFFSETTO:-0600
DTSTART:20071104T020000
RRULE:FREQ=YEARLY;BYMONTH=11;BYDAY=1SU
TZNAME:CST
END:STANDARD
END:VTIMEZONE
BEGIN:VEVENT
UID:da44407f-45ff-4e03-888d-5fa8c27b7963.219415@calendar.missouristate.edu
CREATED:20220113T154916Z
LAST-MODIFIED:20220113T154916Z
LOCATION:Glass Hall\, David D. 331
SUMMARY:Excel at Your Job!
DESCRIPTION:Organizational and Talent Development is proud to present Exce
 l at Your Job! This new series offers three levels of learning for Micros
 oft Excel\, facilitated by our very own College of Business' Karen Eisman
 . Beginner\, intermediate and advanced sessions mean there is something f
 or everyone!\n\n\n\nBeginner - Feb. 18\, 1-3 p.m.\nIntermediate - March 2
 5\, 1-3 p.m.\nAdvanced - April 22\, 1-3 p.m.\n\nAttendees are expected to
  watch curated videos on LinkedIn Learning as part of the pre-work for al
 l three sessions. These videos are lengthy\, so you will need to have tim
 e to set aside to finish them. The sessions will review what you've learn
 ed and time is set aside for examples that are relevant to your work-spec
 ific questions and needs.\n\n\nSpots are limited\, so sign up today in My
  Learning Connection\, found in the Profile tab &gt; Professional Developmen
 t section of My Missouri State.
X-ALT-DESC;FMTTYPE=text/html:&lt;html&gt;&lt;head&gt;&lt;title&gt;&lt;/title&gt;&lt;/head&gt;&lt;body&gt;&lt;p&gt;Or
 ganizational and Talent Development is proud to present Excel at Your Job
 ! This new series offers three levels of learning for Microsoft Excel\, f
 acilitated by our very own College of Business' Karen Eisman. Beginner\, 
 intermediate and advanced sessions mean there is something for everyone!&lt;
 /p&gt;\n&lt;ul&gt;\n&lt;li&gt;Beginner - Feb. 18\, 1-3 p.m.&lt;/li&gt;\n&lt;li&gt;Intermediate - Mar
 ch 25\, 1-3 p.m.&lt;/li&gt;\n&lt;li&gt;Advanced - April 22\, 1-3 p.m.&lt;/li&gt;\n&lt;/ul&gt;\n&lt;p
 &gt;Attendees are expected to watch curated videos on LinkedIn Learning as p
 art of the pre-work for all three sessions. These videos are lengthy\, so
  you will need to have time to set aside to finish them. The sessions wil
 l review what you've learned and time is set aside for examples that are 
 relevant to your work-specific questions and needs.&lt;/p&gt;\n&lt;p&gt;Spots are lim
 ited\, so sign up today in My Learning Connection\, found in the Profile 
 tab &amp;gt\; Professional Development section of &lt;a href="https://my.missour
 istate.edu"&gt;My Missouri State&lt;/a&gt;.&lt;/p&gt;&lt;/body&gt;&lt;/html&gt;
DTSTART;TZID=America/Chicago:20220218T130000
DTEND;TZID=America/Chicago:20220218T150000
SEQUENCE:0
URL:115274.jpg
CATEGORIES:Faculty,Staff
END:VEVENT
END:VCALENDAR