BEGIN:VCALENDAR
VERSION:2.0
METHOD:PUBLISH
PRODID:-//Missouri State University/Calendar of Events//EN
CALSCALE:GREGORIAN
X-WR-TIMEZONE:America/Chicago
BEGIN:VTIMEZONE
TZID:America/Chicago
BEGIN:DAYLIGHT
TZOFFSETFROM:-0600
TZOFFSETTO:-0500
DTSTART:20070311T020000
RRULE:FREQ=YEARLY;BYMONTH=3;BYDAY=2SU
TZNAME:CDT
END:DAYLIGHT
BEGIN:STANDARD
TZOFFSETFROM:-0500
TZOFFSETTO:-0600
DTSTART:20071104T020000
RRULE:FREQ=YEARLY;BYMONTH=11;BYDAY=1SU
TZNAME:CST
END:STANDARD
END:VTIMEZONE
BEGIN:VEVENT
UID:22d77e9a-03da-49b4-8879-65b42194b672.219428@calendar.missouristate.edu
CREATED:20220114T143851Z
LAST-MODIFIED:20220114T143851Z
LOCATION:Roy Blunt Hall 002 Lecture Hall
SUMMARY:GGP Seminar: Dr. Krista Evans - "Rural Planning and the Amish Comm
 unity"
DESCRIPTION:Dr. Krista Evans is a Missouri State University assistant prof
 essor and the director of planning &amp; geography in the GGP department. Her
  research interests include the tiny house movement and rural planning.\n
 \n\nThe presentation will include how the Amish population is growing and
  spreading rapidly in much of the rural United States. Dr. Evans writes\,
  "This subpopulation practices a way of life that differs greatly from th
 e rural majority. For example\, relying on the horse and buggy for travel
  and using the home for both residential and commercial purposes." Very l
 ittle research has been conducted from a planning perspective on the land
  use and community issues that may arise as a result of the differing par
 adigms of land use between the majority rural population and the Amish su
 bculture. This research is interested in how rural places in Missouri acc
 ommodate the growing Amish population and incorporate the resulting chang
 es into their planning processes. It focuses specifically on the communit
 ies in rural Missouri that are experiencing growth and/or inmigration of 
 Amish populations and community and land use planning. This qualitative i
 nquiry has resulted in a greater understanding of how this growing ethnor
 eligious minority is impacting the landscape and planning practices of ru
 ral Missouri.
X-ALT-DESC;FMTTYPE=text/html:&lt;html&gt;&lt;head&gt;&lt;title&gt;&lt;/title&gt;&lt;/head&gt;&lt;body&gt;&lt;p&gt;&lt;a
  href="https://geosciences.missouristate.edu/kristaevans.aspx"&gt;Dr. Krista
  Evans&lt;/a&gt;&amp;nbsp\;is a Missouri State University assistant professor and t
 he director of planning &amp;amp\; geography in the GGP department. Her resea
 rch interests include the tiny house movement and rural planning.&lt;/p&gt;\n&lt;p
 &gt;The presentation will include how the Amish population is growing and sp
 reading rapidly in much of the rural United States. Dr. Evans writes\, "T
 his subpopulation practices a way of life that differs greatly from the r
 ural majority. For example\, relying on the horse and buggy for travel an
 d using the home for both residential and commercial purposes." Very litt
 le research has been conducted from a planning perspective on the land us
 e and community issues that may arise as a result of the differing paradi
 gms of land use between the majority rural population and the Amish subcu
 lture. This research is interested in how rural places in Missouri accomm
 odate the growing Amish population and incorporate the resulting changes 
 into their planning processes. It focuses specifically on the communities
  in rural Missouri that are experiencing growth and/or inmigration of Ami
 sh populations and community and land use planning. This qualitative inqu
 iry has resulted in a greater understanding of how this growing ethnoreli
 gious minority is impacting the landscape and planning practices of rural
  Missouri.&lt;/p&gt;\n&lt;p&gt;&lt;/p&gt;&lt;/body&gt;&lt;/html&gt;
DTSTART;TZID=America/Chicago:20220422T143000
DTEND;TZID=America/Chicago:20220422T153000
SEQUENCE:1
URL:http://www.geosciences.MissouriState.edu
CATEGORIES:Public,Alumni,Current Students,Faculty,Future Students,Staff
END:VEVENT
END:VCALENDAR