BEGIN:VCALENDAR
VERSION:2.0
METHOD:PUBLISH
PRODID:-//Missouri State University/Calendar of Events//EN
CALSCALE:GREGORIAN
X-WR-TIMEZONE:America/Chicago
BEGIN:VTIMEZONE
TZID:America/Chicago
BEGIN:DAYLIGHT
TZOFFSETFROM:-0600
TZOFFSETTO:-0500
DTSTART:20070311T020000
RRULE:FREQ=YEARLY;BYMONTH=3;BYDAY=2SU
TZNAME:CDT
END:DAYLIGHT
BEGIN:STANDARD
TZOFFSETFROM:-0500
TZOFFSETTO:-0600
DTSTART:20071104T020000
RRULE:FREQ=YEARLY;BYMONTH=11;BYDAY=1SU
TZNAME:CST
END:STANDARD
END:VTIMEZONE
BEGIN:VEVENT
UID:7c252a09-8b93-4a14-abbc-9362a319a53f.219490@calendar.missouristate.edu
CREATED:20221114T205655Z
LAST-MODIFIED:20221114T205655Z
LOCATION:Plaster Student Union\, Robert W. Ballroom East
SUMMARY:Board of Governors Committee Meetings
DESCRIPTION:The Missouri State University Board of Governors will hold com
 mittee meetings.\n\n\nAgendas for upcoming committee meetings can be foun
 d here.\n\n\n\n8:30 a.m. Risk Management and Audit Committee Meeting\n9:3
 0 a.m. Finance and Facilities Committee Meeting\n10:45 a.m. Programs and 
 Planning Committee Meeting
X-ALT-DESC;FMTTYPE=text/html:&lt;html&gt;&lt;head&gt;&lt;title&gt;&lt;/title&gt;&lt;/head&gt;&lt;body&gt;&lt;p&gt;Th
 e Missouri State University Board of Governors will hold committee meetin
 gs.&lt;/p&gt;\n&lt;p&gt;Agendas for upcoming committee meetings can be found&amp;nbsp\;&lt;a
  href="https://www.missouristate.edu/BOG/committees.htm"&gt;here&lt;/a&gt;.&lt;/p&gt;\n&lt;
 ul&gt;\n&lt;li&gt;&lt;strong&gt;8:30 a.m. Risk Management and Audit Committee Meeting&lt;/s
 trong&gt;&lt;/li&gt;\n&lt;li&gt;&lt;b&gt;9:30 a.m.&amp;nbsp\;&lt;/b&gt;&lt;strong&gt;Finance and Facilities Co
 mmittee Meeting&lt;/strong&gt;&lt;/li&gt;\n&lt;li&gt;&lt;strong&gt;10:45 a.m. Programs and Planni
 ng Committee Meeting&lt;/strong&gt;&lt;/li&gt;\n&lt;/ul&gt;&lt;/body&gt;&lt;/html&gt;
DTSTART;TZID=America/Chicago:20221215T083000
DTEND;TZID=America/Chicago:20221215T114500
SEQUENCE:0
URL:https://www.missouristate.edu/BOG/
CATEGORIES:Public,Alumni,Current Students,Faculty,Future Students,Staff
END:VEVENT
END:VCALENDAR