BEGIN:VCALENDAR
VERSION:2.0
METHOD:PUBLISH
PRODID:-//Missouri State University/Calendar of Events//EN
CALSCALE:GREGORIAN
X-WR-TIMEZONE:America/Chicago
BEGIN:VTIMEZONE
TZID:America/Chicago
BEGIN:DAYLIGHT
TZOFFSETFROM:-0600
TZOFFSETTO:-0500
DTSTART:20070311T020000
RRULE:FREQ=YEARLY;BYMONTH=3;BYDAY=2SU
TZNAME:CDT
END:DAYLIGHT
BEGIN:STANDARD
TZOFFSETFROM:-0500
TZOFFSETTO:-0600
DTSTART:20071104T020000
RRULE:FREQ=YEARLY;BYMONTH=11;BYDAY=1SU
TZNAME:CST
END:STANDARD
END:VTIMEZONE
BEGIN:VEVENT
UID:2188a9fc-5d25-4251-a7e4-459a39a4a318.219493@calendar.missouristate.edu
CREATED:20220609T212024Z
LAST-MODIFIED:20220609T212024Z
LOCATION:Magnolia Room
SUMMARY:Board of Governors Committee Meetings
DESCRIPTION:The Missouri State University Board of Governors will hold com
 mittee meetings.\n\n\nCommitte meeting agendas can be found here: https:/
 /www.missouristate.edu/BOG/committees.htm\n\n\n1:00 p.m. Risk Management 
 and Audit Committee Meeting\n\n\n2:00 p.m. Programs and Planning Committe
 e Meeting\n\n\n3:30 p.m. Finance and Facilities Committee Meeting
X-ALT-DESC;FMTTYPE=text/html:&lt;html&gt;&lt;head&gt;&lt;title&gt;&lt;/title&gt;&lt;/head&gt;&lt;body&gt;&lt;p&gt;Th
 e Missouri State University Board of Governors will hold committee meetin
 gs.&lt;/p&gt;\n&lt;p&gt;Committe meeting agendas can be found here:&amp;nbsp\;&lt;a href="ht
 tps://www.missouristate.edu/BOG/committees.htm"&gt;https://www.missouristate
 .edu/BOG/committees.htm&lt;/a&gt;&lt;/p&gt;\n&lt;p&gt;&lt;strong&gt;1:00 p.m. Risk Management and
  Audit Committee Meeting&lt;/strong&gt;&lt;/p&gt;\n&lt;p&gt;&lt;strong&gt;2:00 p.m. Programs and 
 Planning Committee Meeting&lt;/strong&gt;&lt;/p&gt;\n&lt;p&gt;&lt;strong&gt;3:30 p.m.&amp;nbsp\;&lt;/str
 ong&gt;&lt;strong&gt;Finance and Facilities Committee Meeting&lt;/strong&gt;&lt;/p&gt;&lt;/body&gt;&lt;
 /html&gt;
DTSTART;TZID=America/Chicago:20220623T130000
DTEND;TZID=America/Chicago:20220623T170000
SEQUENCE:0
URL:https://www.missouristate.edu/BOG/
CATEGORIES:Public,Alumni,Current Students,Faculty,Future Students,Staff
END:VEVENT
END:VCALENDAR