BEGIN:VCALENDAR
VERSION:2.0
METHOD:PUBLISH
PRODID:-//Missouri State University/Calendar of Events//EN
CALSCALE:GREGORIAN
X-WR-TIMEZONE:America/Chicago
BEGIN:VTIMEZONE
TZID:America/Chicago
BEGIN:DAYLIGHT
TZOFFSETFROM:-0600
TZOFFSETTO:-0500
DTSTART:20070311T020000
RRULE:FREQ=YEARLY;BYMONTH=3;BYDAY=2SU
TZNAME:CDT
END:DAYLIGHT
BEGIN:STANDARD
TZOFFSETFROM:-0500
TZOFFSETTO:-0600
DTSTART:20071104T020000
RRULE:FREQ=YEARLY;BYMONTH=11;BYDAY=1SU
TZNAME:CST
END:STANDARD
END:VTIMEZONE
BEGIN:VEVENT
UID:8f9f5eeb-b041-4c9f-9d99-7bd38e81f6f5.219684@calendar.missouristate.edu
CREATED:20220121T160825Z
LAST-MODIFIED:20220121T160825Z
LOCATION:Plaster Free Enterprise Center\, Robert W. 1000
SUMMARY:Intentionally Developing Your People
DESCRIPTION:Successful retention and succession planning requires a develo
 pment plan for your people. Especially early in someone’s career it is im
 portant to have a plan for how they will grow. Many leave this to chance 
 and take a strategy of hope when it comes to skill development. Join us t
 o learn how to take an intentional approach to identifying competencies a
 nd a plan to develop them.ObjectivesAfter completing this course particip
 ants will be able to:• Understand the principles of rapid skill developme
 nt• Learn the process of career mapping• Recognize the link between gener
 alized knowledge and specific skills• Take ownership for their own skill 
 development• Understand how development can lead to greater engagement an
 d retention
X-ALT-DESC;FMTTYPE=text/html:&lt;html&gt;&lt;head&gt;&lt;title&gt;&lt;/title&gt;&lt;/head&gt;&lt;body&gt;&lt;p&gt;&lt;s
 pan&gt;Successful retention and succession planning requires a development p
 lan for your people. Especially early in someone’s career it is important
  to have a plan for how they will grow. Many leave this to chance and tak
 e a strategy of hope when it comes to skill development. Join us to learn
  how to take an intentional approach to identifying competencies and a pl
 an to develop them.&lt;/span&gt;&lt;br&gt;&lt;br&gt;&lt;span&gt;Objectives&lt;/span&gt;&lt;br&gt;&lt;span&gt;After 
 completing this course participants will be able to:&lt;/span&gt;&lt;br&gt;&lt;span&gt;• Un
 derstand the principles of rapid skill development&lt;/span&gt;&lt;br&gt;&lt;span&gt;• Lear
 n the process of career mapping&lt;/span&gt;&lt;br&gt;&lt;span&gt;• Recognize the link betw
 een generalized knowledge and specific skills&lt;/span&gt;&lt;br&gt;&lt;span&gt;• Take owne
 rship for their own skill development&lt;/span&gt;&lt;br&gt;&lt;span&gt;• Understand how de
 velopment can lead to greater engagement and retention&lt;/span&gt;&lt;/p&gt;&lt;/body&gt;&lt;
 /html&gt;
DTSTART;TZID=America/Chicago:20220330T090000
DTEND;TZID=America/Chicago:20220330T160000
SEQUENCE:0
URL:http://www.sbdc.missouristate.edu/training
CATEGORIES:Public
END:VEVENT
END:VCALENDAR