BEGIN:VCALENDAR
VERSION:2.0
METHOD:PUBLISH
PRODID:-//Missouri State University/Calendar of Events//EN
CALSCALE:GREGORIAN
X-WR-TIMEZONE:America/Chicago
BEGIN:VTIMEZONE
TZID:America/Chicago
BEGIN:DAYLIGHT
TZOFFSETFROM:-0600
TZOFFSETTO:-0500
DTSTART:20070311T020000
RRULE:FREQ=YEARLY;BYMONTH=3;BYDAY=2SU
TZNAME:CDT
END:DAYLIGHT
BEGIN:STANDARD
TZOFFSETFROM:-0500
TZOFFSETTO:-0600
DTSTART:20071104T020000
RRULE:FREQ=YEARLY;BYMONTH=11;BYDAY=1SU
TZNAME:CST
END:STANDARD
END:VTIMEZONE
BEGIN:VEVENT
UID:d4587054-8bf7-48cc-94c0-fbcd820bd010.219686@calendar.missouristate.edu
CREATED:20220121T154606Z
LAST-MODIFIED:20220121T154606Z
LOCATION:Plaster Free Enterprise Center\, Robert W. 1000
SUMMARY:Excelling as an Administrative Professional
DESCRIPTION:Administrative professionals often underestimate their impact 
 within an organization because their leadership role is that of leadershi
 p through support. With new technologies and changing organizational clim
 ates\, expectations are increasing in job responsibilities and job perfor
 mance. This seminar will focus on overall administrative leadership\, man
 agement principles and the expansion of professionalism in this dynamic p
 rofession. Develop new tools and skills to enable you to be a proactive m
 ember of the organization while working through three essential component
 s of an administrative professional’s role:Administrative Component – Und
 erstanding Your RoleProfessionalism Component - Are you getting the resul
 ts you want?Leadership Component - Relationship Management
X-ALT-DESC;FMTTYPE=text/html:&lt;html&gt;&lt;head&gt;&lt;title&gt;&lt;/title&gt;&lt;/head&gt;&lt;body&gt;&lt;p&gt;&lt;s
 pan&gt;Administrative professionals often underestimate their impact within 
 an organization because their leadership role is that of leadership throu
 gh support. With new technologies and changing organizational climates\, 
 expectations are increasing in job responsibilities and job performance. 
 This seminar will focus on overall administrative leadership\, management
  principles and the expansion of professionalism in this dynamic professi
 on. Develop new tools and skills to enable you to be a proactive member o
 f the organization while working through three essential components of an
  administrative professional’s role:&lt;/span&gt;&lt;br&gt;&lt;br&gt;&lt;span&gt;Administrative C
 omponent – Understanding Your Role&lt;/span&gt;&lt;br&gt;&lt;br&gt;&lt;span&gt;Professionalism Co
 mponent - Are you getting the results you want?&lt;/span&gt;&lt;br&gt;&lt;br&gt;&lt;span&gt;Leade
 rship Component - Relationship Management&lt;/span&gt;&lt;/p&gt;&lt;/body&gt;&lt;/html&gt;
DTSTART;TZID=America/Chicago:20220412T090000
DTEND;TZID=America/Chicago:20220412T160000
SEQUENCE:0
URL:http://www.sbdc.missouristate.edu/training
CATEGORIES:Public
END:VEVENT
END:VCALENDAR