BEGIN:VCALENDAR
VERSION:2.0
METHOD:PUBLISH
PRODID:-//Missouri State University/Calendar of Events//EN
CALSCALE:GREGORIAN
X-WR-TIMEZONE:America/Chicago
BEGIN:VTIMEZONE
TZID:America/Chicago
BEGIN:DAYLIGHT
TZOFFSETFROM:-0600
TZOFFSETTO:-0500
DTSTART:20070311T020000
RRULE:FREQ=YEARLY;BYMONTH=3;BYDAY=2SU
TZNAME:CDT
END:DAYLIGHT
BEGIN:STANDARD
TZOFFSETFROM:-0500
TZOFFSETTO:-0600
DTSTART:20071104T020000
RRULE:FREQ=YEARLY;BYMONTH=11;BYDAY=1SU
TZNAME:CST
END:STANDARD
END:VTIMEZONE
BEGIN:VEVENT
UID:04a04a9c-2028-48e4-a43c-877fde473e42.219687@calendar.missouristate.edu
CREATED:20220121T152820Z
LAST-MODIFIED:20220121T152820Z
LOCATION:Plaster Free Enterprise Center\, Robert W. 1000
SUMMARY:Are You a Better Leader than a Pirate Captain?
DESCRIPTION:Leadership is a delicate balance of results and relationships.
  A recent Gallop poll found only 30% of employees say they are engaged an
 d inspired at work. Perks\, pay raises and promotions alone don't do the 
 job. What does create high job satisfaction is culture\, teamwork and lea
 dership. In this one day session you'll learn how Pirate Captains faced t
 he same challenges and overcame them aboard their ships.\n\n\nKey Informa
 tion:• Your personal leadership style• How to create a collective vision 
 and values• What makes a strong work culture• How a team centered focus c
 an improve productivity and improve attitudes• What other organizations a
 re doing that is working to attract and retain young workers
X-ALT-DESC;FMTTYPE=text/html:&lt;html&gt;&lt;head&gt;&lt;title&gt;&lt;/title&gt;&lt;/head&gt;&lt;body&gt;&lt;p&gt;&lt;s
 pan&gt;Leadership is a delicate balance of results and relationships. A rece
 nt Gallop poll found only 30% of employees say they are engaged and inspi
 red at work. Perks\, pay raises and promotions alone don't do the job. Wh
 at does create high job satisfaction is culture\, teamwork and leadership
 . In this one day session you'll learn how Pirate Captains faced the same
  challenges and overcame them aboard their ships.&lt;/span&gt;&lt;/p&gt;\n&lt;p&gt;&lt;br&gt;Key 
 Information:&lt;br&gt;&lt;br&gt;• Your personal leadership style&lt;br&gt;• How to create a
  collective vision and values&lt;br&gt;• What makes a strong work culture&lt;br&gt;• 
 How a team centered focus can improve productivity and improve attitudes&lt;
 br&gt;• What other organizations are doing that is working to attract and re
 tain young workers&lt;/p&gt;&lt;/body&gt;&lt;/html&gt;
DTSTART;TZID=America/Chicago:20220413T090000
DTEND;TZID=America/Chicago:20220413T160000
SEQUENCE:0
URL:http://www.sbdc.missouristate.edu/training
CATEGORIES:Public
END:VEVENT
END:VCALENDAR