BEGIN:VCALENDAR
VERSION:2.0
METHOD:PUBLISH
PRODID:-//Missouri State University/Calendar of Events//EN
CALSCALE:GREGORIAN
X-WR-TIMEZONE:America/Chicago
BEGIN:VTIMEZONE
TZID:America/Chicago
BEGIN:DAYLIGHT
TZOFFSETFROM:-0600
TZOFFSETTO:-0500
DTSTART:20070311T020000
RRULE:FREQ=YEARLY;BYMONTH=3;BYDAY=2SU
TZNAME:CDT
END:DAYLIGHT
BEGIN:STANDARD
TZOFFSETFROM:-0500
TZOFFSETTO:-0600
DTSTART:20071104T020000
RRULE:FREQ=YEARLY;BYMONTH=11;BYDAY=1SU
TZNAME:CST
END:STANDARD
END:VTIMEZONE
BEGIN:VEVENT
UID:fe07379e-2fa9-47f0-9542-f7c3123346c9.219703@calendar.missouristate.edu
CREATED:20220829T185638Z
LAST-MODIFIED:20220829T185638Z
LOCATION:
SUMMARY:Communication Basics via Zoom
DESCRIPTION:Every problem in the workplace may not stem from poor communic
 ation—but poor communication is the root of enough problems that it’s wor
 th talking about! What\, exactly\, is communication? What is the differen
 ce between verbal and nonverbal communication\, and why is nonverbal comm
 unication so important?  What can go wrong when two people attempt to com
 municate? What can you do to be a more effective communicator?  These top
 ics will be the focus of this two hour session about communication.\n\n\n
 This workshop is sponsored by Organizational and Talent Development\n\n\n
 Facilitator:  Dr. Gloria Galanes\, MSU Emeritus Dean\n\n\nWorkshop is bei
 ng offered via Zoom\n\n\nRegister through My.missouristate.edu:\n\n\n\nGo
  to your profile tab\nFind the Professional Development box\nSelect My Le
 arning Connection\nSearch for Communication Basics or find it in your Fea
 tured Training box\nRegister for the training!
X-ALT-DESC;FMTTYPE=text/html:&lt;html&gt;&lt;head&gt;&lt;title&gt;&lt;/title&gt;&lt;/head&gt;&lt;body&gt;&lt;p&gt;&lt;s
 pan&gt;Every problem in the workplace may not stem from poor communication—b
 ut poor communication is the root of enough problems that it’s worth talk
 ing about! What\, exactly\, is communication? What is the difference betw
 een verbal and nonverbal communication\, and why is nonverbal communicati
 on so important?&amp;nbsp\; What can go wrong when two people attempt to comm
 unicate? What can you do to be a more effective communicator?&amp;nbsp\; Thes
 e topics will be the focus of this two hour session about communication.&lt;
 /span&gt;&lt;/p&gt;\n&lt;p&gt;&lt;span&gt;This workshop is sponsored by Organizational and Tal
 ent Development&lt;/span&gt;&lt;/p&gt;\n&lt;p&gt;&lt;span&gt;Facilitator:&amp;nbsp\; Dr. Gloria Galan
 es\, MSU Emeritus Dean&lt;/span&gt;&lt;/p&gt;\n&lt;p&gt;&lt;span&gt;Workshop is being offered via
  Zoom&lt;/span&gt;&lt;/p&gt;\n&lt;p&gt;Register through My.missouristate.edu:&lt;/p&gt;\n&lt;ul&gt;\n&lt;l
 i&gt;&lt;span&gt;Go to your profile tab&lt;/span&gt;&lt;/li&gt;\n&lt;li&gt;&lt;span&gt;Find the Profession
 al Development box&lt;/span&gt;&lt;/li&gt;\n&lt;li&gt;&lt;span&gt;Select My Learning Connection&lt;/
 span&gt;&lt;/li&gt;\n&lt;li&gt;&lt;span&gt;Search for Communication Basics or find it in your 
 Featured Training box&lt;/span&gt;&lt;/li&gt;\n&lt;li&gt;&lt;span&gt;Register for the training!&lt;/
 span&gt;&lt;/li&gt;\n&lt;/ul&gt;&lt;/body&gt;&lt;/html&gt;
DTSTART;TZID=America/Chicago:20220303T100000
DTEND;TZID=America/Chicago:20220303T120000
SEQUENCE:0
URL:115374.jpg
CATEGORIES:Faculty,Staff
END:VEVENT
END:VCALENDAR