BEGIN:VCALENDAR
VERSION:2.0
METHOD:PUBLISH
PRODID:-//Missouri State University/Calendar of Events//EN
CALSCALE:GREGORIAN
X-WR-TIMEZONE:America/Chicago
BEGIN:VTIMEZONE
TZID:America/Chicago
BEGIN:DAYLIGHT
TZOFFSETFROM:-0600
TZOFFSETTO:-0500
DTSTART:20070311T020000
RRULE:FREQ=YEARLY;BYMONTH=3;BYDAY=2SU
TZNAME:CDT
END:DAYLIGHT
BEGIN:STANDARD
TZOFFSETFROM:-0500
TZOFFSETTO:-0600
DTSTART:20071104T020000
RRULE:FREQ=YEARLY;BYMONTH=11;BYDAY=1SU
TZNAME:CST
END:STANDARD
END:VTIMEZONE
BEGIN:VEVENT
UID:d480604f-96d1-43f7-acce-99467661e445.219706@calendar.missouristate.edu
CREATED:20220825T191001Z
LAST-MODIFIED:20220825T191001Z
LOCATION:
SUMMARY:Effective Listening via Zoom
DESCRIPTION:Good listeners have deeper\, stronger\, and better relationshi
 ps at work\, at home\, and with friends. This workshop will explain why l
 istening is important\, help you figure out what type of listener you are
 \, and teach you the necessary skills to become a more effective listener
 . Join us for this two hour workshop!\n\n\nFacilitator:  Gloria Galanes\,
  MSU Dean Emeritus\n\n\nSponsored by Organizational and Talent Developmen
 t\, HR\n\n\nRegister through MyLearning Connection under the Profile Tab 
 of MyMissouristate portal.\n\n\n\n\n\nThis workshop is being offered via 
 Zoom.
X-ALT-DESC;FMTTYPE=text/html:&lt;html&gt;&lt;head&gt;&lt;title&gt;&lt;/title&gt;&lt;/head&gt;&lt;body&gt;&lt;p&gt;&lt;s
 pan&gt;Good listeners have deeper\, stronger\, and better relationships at w
 ork\, at home\, and with friends. This workshop will explain why listenin
 g is important\, help you figure out what type of listener you are\, and 
 teach you the necessary skills to become a more effective listener. Join 
 us for this two hour workshop!&lt;/span&gt;&lt;/p&gt;\n&lt;p&gt;&lt;span&gt;Facilitator:&amp;nbsp\; G
 loria Galanes\, MSU Dean Emeritus&lt;/span&gt;&lt;span&gt;&lt;/span&gt;&lt;/p&gt;\n&lt;p&gt;Sponsored b
 y Organizational and Talent Development\, HR&lt;/p&gt;\n&lt;p&gt;Register through&amp;nbs
 p\;&lt;a href="https://my.missouristate.edu/"&gt;MyLearning Connection&lt;/a&gt;&amp;nbsp
 \;under the Profile Tab of MyMissouristate portal.&lt;/p&gt;\n&lt;p&gt;&lt;/p&gt;\n&lt;p&gt;This 
 workshop is being offered via Zoom.&lt;/p&gt;&lt;/body&gt;&lt;/html&gt;
DTSTART;TZID=America/Chicago:20220224T100000
DTEND;TZID=America/Chicago:20220224T120000
SEQUENCE:0
URL:115376.jpg
CATEGORIES:Faculty,Staff
END:VEVENT
END:VCALENDAR