BEGIN:VCALENDAR
VERSION:2.0
METHOD:PUBLISH
PRODID:-//Missouri State University/Calendar of Events//EN
CALSCALE:GREGORIAN
X-WR-TIMEZONE:America/Chicago
BEGIN:VTIMEZONE
TZID:America/Chicago
BEGIN:DAYLIGHT
TZOFFSETFROM:-0600
TZOFFSETTO:-0500
DTSTART:20070311T020000
RRULE:FREQ=YEARLY;BYMONTH=3;BYDAY=2SU
TZNAME:CDT
END:DAYLIGHT
BEGIN:STANDARD
TZOFFSETFROM:-0500
TZOFFSETTO:-0600
DTSTART:20071104T020000
RRULE:FREQ=YEARLY;BYMONTH=11;BYDAY=1SU
TZNAME:CST
END:STANDARD
END:VTIMEZONE
BEGIN:VEVENT
UID:57b7457f-8e3c-43bd-a951-261134759165.219708@calendar.missouristate.edu
CREATED:20220121T223713Z
LAST-MODIFIED:20220121T223713Z
LOCATION:Pummill Hall 207
SUMMARY:Writing for Business
DESCRIPTION:In the workplace\, your communication skills—both written and 
 verbal—can help or hinder your performance. Whether it is writing a repor
 t or delivering a presentation\, your ability to convey ideas and message
 s clearly\, succinctly and with conviction establishes a connection with 
 others and leaves a positive impression. This 90-minute session will help
  you communicate better in conversations\, presentations\, letters\, emai
 ls and reports.\n\n\nThis workshop is sponsored by Human Resources\, Orga
 nizational and Talent Development and the Office of University Communicat
 ions.  \n\n\nPresenter:  Emily Yeap\n\n\nRegister through My.missouristat
 e.edu:\n\n\n\nGo to your profile tab\nFind the Professional Development b
 ox\nSelect My Learning Connection\nSearch for Communication Basics or fin
 d it in your Featured Training box\nRegister for the training!
X-ALT-DESC;FMTTYPE=text/html:&lt;html&gt;&lt;head&gt;&lt;title&gt;&lt;/title&gt;&lt;/head&gt;&lt;body&gt;&lt;div&gt;
 \n&lt;p color="grey60"&gt;&lt;span&gt;&lt;/span&gt;&lt;/p&gt;\n&lt;p&gt;In the workplace\, your communi
 cation skills—both written and verbal—can help or hinder your performance
 . Whether it is writing a report or delivering a presentation\, your abil
 ity to convey ideas and messages clearly\, succinctly and with conviction
  establishes a connection with others and leaves a positive impression. T
 his 90-minute session will help you communicate better in conversations\,
  presentations\, letters\, emails and reports.&lt;/p&gt;\n&lt;p&gt;This workshop is s
 ponsored by Human Resources\, Organizational and Talent Development and t
 he Office of University Communications.&amp;nbsp\; &lt;/p&gt;\n&lt;p&gt;Presenter:&amp;nbsp\;
  Emily Yeap&lt;/p&gt;\n&lt;p&gt;&lt;span&gt;Register through My.missouristate.edu:&lt;/span&gt;&lt;/
 p&gt;\n&lt;ul&gt;\n&lt;li&gt;&lt;span&gt;Go to your profile tab&lt;/span&gt;&lt;/li&gt;\n&lt;li&gt;&lt;span&gt;Find th
 e Professional Development box&lt;/span&gt;&lt;/li&gt;\n&lt;li&gt;&lt;span&gt;Select My Learning 
 Connection&lt;/span&gt;&lt;/li&gt;\n&lt;li&gt;&lt;span&gt;Search for Communication Basics or find
  it in your Featured Training box&lt;/span&gt;&lt;/li&gt;\n&lt;li&gt;&lt;span&gt;Register for the
  training!&lt;/span&gt;&lt;/li&gt;\n&lt;/ul&gt;\n&lt;/div&gt;&lt;/body&gt;&lt;/html&gt;
DTSTART;TZID=America/Chicago:20220406T130000
DTEND;TZID=America/Chicago:20220406T143000
SEQUENCE:0
URL:115377.jpg
CATEGORIES:Faculty,Staff
END:VEVENT
END:VCALENDAR