BEGIN:VCALENDAR
VERSION:2.0
METHOD:PUBLISH
PRODID:-//Missouri State University/Calendar of Events//EN
CALSCALE:GREGORIAN
X-WR-TIMEZONE:America/Chicago
BEGIN:VTIMEZONE
TZID:America/Chicago
BEGIN:DAYLIGHT
TZOFFSETFROM:-0600
TZOFFSETTO:-0500
DTSTART:20070311T020000
RRULE:FREQ=YEARLY;BYMONTH=3;BYDAY=2SU
TZNAME:CDT
END:DAYLIGHT
BEGIN:STANDARD
TZOFFSETFROM:-0500
TZOFFSETTO:-0600
DTSTART:20071104T020000
RRULE:FREQ=YEARLY;BYMONTH=11;BYDAY=1SU
TZNAME:CST
END:STANDARD
END:VTIMEZONE
BEGIN:VEVENT
UID:e431c692-9767-4d1c-8ebb-eb7d2cee718d.219723@calendar.missouristate.edu
CREATED:20220125T145625Z
LAST-MODIFIED:20220125T145625Z
LOCATION:Plaster Student Union\, Robert W. Theater
SUMMARY:Vicki Stanton Public Speaking Showcase Final Round
DESCRIPTION:The Vicki Stanton Public Speaking Showcase highlights COM 115 
 students presenting their best persuasive speeches. Students are able to 
 take what they have learned from COM 115 and put it into practice in fron
 t of both their peers and some Missouri State University faculty. There a
 re two preliminary rounds in which all speakers give their speech once pe
 r round. Five finalists are determined from these rounds and then move on
  to the final.\n\n\n"VSPSS is a great event because it shows what we—both
  students and listeners—have been working towards all semester." —2017-20
 18 MSU Graduate Assistant
X-ALT-DESC;FMTTYPE=text/html:&lt;html&gt;&lt;head&gt;&lt;title&gt;&lt;/title&gt;&lt;/head&gt;&lt;body&gt;&lt;p&gt;Th
 e Vicki Stanton Public Speaking Showcase highlights COM 115 students pres
 enting their best persuasive speeches. Students are able to take what the
 y have learned from COM 115 and put it into practice in front of both the
 ir peers and some Missouri State University faculty. There are two prelim
 inary rounds in which all speakers give their speech once per round. Five
  finalists are determined from these rounds and then move on to the final
 .&lt;/p&gt;\n&lt;p&gt;"VSPSS is a great event because it shows what we—both students 
 and listeners—have been working towards all semester." —2017-2018 MSU Gra
 duate Assistant&lt;/p&gt;&lt;/body&gt;&lt;/html&gt;
DTSTART;TZID=America/Chicago:20220510T173000
DTEND;TZID=America/Chicago:20220510T190000
SEQUENCE:0
URL:https://communication.missouristate.edu/vspss/
CATEGORIES:Current Students
END:VEVENT
END:VCALENDAR