BEGIN:VCALENDAR
VERSION:2.0
METHOD:PUBLISH
PRODID:-//Missouri State University/Calendar of Events//EN
CALSCALE:GREGORIAN
X-WR-TIMEZONE:America/Chicago
BEGIN:VTIMEZONE
TZID:America/Chicago
BEGIN:DAYLIGHT
TZOFFSETFROM:-0600
TZOFFSETTO:-0500
DTSTART:20070311T020000
RRULE:FREQ=YEARLY;BYMONTH=3;BYDAY=2SU
TZNAME:CDT
END:DAYLIGHT
BEGIN:STANDARD
TZOFFSETFROM:-0500
TZOFFSETTO:-0600
DTSTART:20071104T020000
RRULE:FREQ=YEARLY;BYMONTH=11;BYDAY=1SU
TZNAME:CST
END:STANDARD
END:VTIMEZONE
BEGIN:VEVENT
UID:e8d0c7f1-3527-4d64-a02d-8f5da6d25992.219772@calendar.missouristate.edu
CREATED:20220330T232639Z
LAST-MODIFIED:20220330T232639Z
LOCATION:Pummill Hall 205
SUMMARY:Critical Thinking Tools Workshop 
DESCRIPTION:Critical Thinking means taking responsibility for attitudes\, 
 moods\, and thoughts\, in order to arrive at conclusions and solutions ob
 jectively.  This workshop will freshen and expand your choices of Critica
 l Thinking tools that can offer new approaches to an ever-expanding set o
 f challenges.Facilitator: Dale McCoy\, Organizational and Human Systems D
 evelopment\n\n\nRegister today through My Learning Connection.Sponsored b
 y Organizational and Talent Development\, HR
X-ALT-DESC;FMTTYPE=text/html:&lt;html&gt;&lt;head&gt;&lt;title&gt;&lt;/title&gt;&lt;/head&gt;&lt;body&gt;&lt;p&gt;Cr
 itical Thinking means taking responsibility for attitudes\, moods\, and t
 houghts\, in order to arrive at conclusions and solutions objectively.&amp;nb
 sp\; This workshop will freshen and expand your choices of Critical Think
 ing tools that can offer new approaches to an ever-expanding set of chall
 enges.&lt;br&gt;&lt;br&gt;&lt;br&gt;Facilitator: Dale McCoy\, Organizational and Human Syst
 ems Development&lt;/p&gt;\n&lt;p&gt;Register today through &lt;a href="https://missouris
 tate.csod.com/LMS/catalog/Welcome.aspx?tab_page_id=-67&amp;amp\;tab_id=-1" ti
 tle="My Learning Connection"&gt;My Learning Connection&lt;/a&gt;.&lt;br&gt;&lt;br&gt;&lt;em&gt;Spons
 ored by Organizational and Talent Development\, HR&lt;/em&gt;&lt;/p&gt;&lt;/body&gt;&lt;/html&gt;
DTSTART;TZID=America/Chicago:20220331T083000
DTEND;TZID=America/Chicago:20220331T120000
SEQUENCE:1
URL:https://www.missouristate.edu/human/organizational-talent-development.
 aspx
CATEGORIES:Faculty,Staff
END:VEVENT
END:VCALENDAR