BEGIN:VCALENDAR
VERSION:2.0
METHOD:PUBLISH
PRODID:-//Missouri State University/Calendar of Events//EN
CALSCALE:GREGORIAN
X-WR-TIMEZONE:America/Chicago
BEGIN:VTIMEZONE
TZID:America/Chicago
BEGIN:DAYLIGHT
TZOFFSETFROM:-0600
TZOFFSETTO:-0500
DTSTART:20070311T020000
RRULE:FREQ=YEARLY;BYMONTH=3;BYDAY=2SU
TZNAME:CDT
END:DAYLIGHT
BEGIN:STANDARD
TZOFFSETFROM:-0500
TZOFFSETTO:-0600
DTSTART:20071104T020000
RRULE:FREQ=YEARLY;BYMONTH=11;BYDAY=1SU
TZNAME:CST
END:STANDARD
END:VTIMEZONE
BEGIN:VEVENT
UID:00000000-0000-0000-0000-000000000000.219773@calendar.missouristate.edu
CREATED:20220128T174513Z
LAST-MODIFIED:20220128T174513Z
LOCATION:To Be Determined
SUMMARY:Public Affairs Mission Workshop via Zoom
DESCRIPTION:In this training\, you will explore the history of the public 
 affairs mission of the university and how to become a more engaged Citize
 n Bear. \n\n\nRequirements for Zoom: computer with internet access and sp
 eaker audio capability or cell phone\n\n\nPresenters: Stacey Trewatha-Bac
 h and Mary Ann Wood\n\n\nSponsored by Organizational and Talent Developme
 nt-HR  and the Office of Public Affairs Support.  \n\n\nRegister today th
 rough My Learning Connection.  
X-ALT-DESC;FMTTYPE=text/html:&lt;html&gt;&lt;head&gt;&lt;title&gt;&lt;/title&gt;&lt;/head&gt;&lt;body&gt;&lt;p&gt;&lt;s
 pan color="#595959"&gt;&lt;span&gt;In this training\, you will explore the history
  of the public affairs mission of the university and how to become a more
  engaged Citizen Bear.&amp;nbsp\;&lt;/span&gt;&lt;/span&gt;&lt;/p&gt;\n&lt;p&gt;&lt;strong&gt;Requirements 
 for Zoom:&amp;nbsp\;computer with internet access and speaker audio capabilit
 y or cell phone&lt;/strong&gt;&lt;/p&gt;\n&lt;p&gt;Presenters: Stacey Trewatha-Bach and Mar
 y Ann Wood&lt;/p&gt;\n&lt;p&gt;Sponsored by Organizational and Talent Development-HR&amp;
 nbsp\; and the Office of Public Affairs Support.&amp;nbsp\;&amp;nbsp\;&lt;/p&gt;\n&lt;p&gt;&lt;s
 pan&gt;Register today through &lt;/span&gt;&lt;a href="https://cas.missouristate.edu/
 cas/login?service=https%3A%2F%2Fmy.missouristate.edu%2Fc%2Fportal%2Flogin
 "&gt;&lt;span&gt;My Learning Connection&lt;/span&gt;&lt;/a&gt;&lt;span&gt;.&amp;nbsp\;&amp;nbsp\;&lt;/span&gt;&lt;/p&gt;
 &lt;/body&gt;&lt;/html&gt;
DTSTART;TZID=America/Chicago:20220428T100000
DTEND;TZID=America/Chicago:20220428T110000
SEQUENCE:0
URL:
CATEGORIES:Faculty,Staff
END:VEVENT
END:VCALENDAR