BEGIN:VCALENDAR
VERSION:2.0
METHOD:PUBLISH
PRODID:-//Missouri State University/Calendar of Events//EN
CALSCALE:GREGORIAN
X-WR-TIMEZONE:America/Chicago
BEGIN:VTIMEZONE
TZID:America/Chicago
BEGIN:DAYLIGHT
TZOFFSETFROM:-0600
TZOFFSETTO:-0500
DTSTART:20070311T020000
RRULE:FREQ=YEARLY;BYMONTH=3;BYDAY=2SU
TZNAME:CDT
END:DAYLIGHT
BEGIN:STANDARD
TZOFFSETFROM:-0500
TZOFFSETTO:-0600
DTSTART:20071104T020000
RRULE:FREQ=YEARLY;BYMONTH=11;BYDAY=1SU
TZNAME:CST
END:STANDARD
END:VTIMEZONE
BEGIN:VEVENT
UID:90f2f557-3a4a-4a86-9e29-35b0b8fda955.219811@calendar.missouristate.edu
CREATED:20231115T215547Z
LAST-MODIFIED:20231115T215547Z
LOCATION:To Be Determined
SUMMARY:Extra Given Day*
DESCRIPTION:Extra given days are granted at the discretion of the presiden
 t of the university. 
X-ALT-DESC;FMTTYPE=text/html:&lt;html&gt;&lt;head&gt;&lt;title&gt;&lt;/title&gt;&lt;/head&gt;&lt;body&gt;&lt;p&gt;&lt;s
 pan&gt;Extra given days are granted at the discretion of the president of th
 e university.&amp;nbsp\; &lt;br&gt;&lt;/span&gt;&lt;/p&gt;&lt;/body&gt;&lt;/html&gt;
DTSTART;VALUE=DATE:20231122
DTEND;VALUE=DATE:20231123
SEQUENCE:0
URL:https://calendar.missouristate.edu/viewevent.aspx?eventid=115449&amp;occur
 renceid=219811
CATEGORIES:Public,Faculty,Staff
END:VEVENT
END:VCALENDAR