BEGIN:VCALENDAR
VERSION:2.0
METHOD:PUBLISH
PRODID:-//Missouri State University/Calendar of Events//EN
CALSCALE:GREGORIAN
X-WR-TIMEZONE:America/Chicago
BEGIN:VTIMEZONE
TZID:America/Chicago
BEGIN:DAYLIGHT
TZOFFSETFROM:-0600
TZOFFSETTO:-0500
DTSTART:20070311T020000
RRULE:FREQ=YEARLY;BYMONTH=3;BYDAY=2SU
TZNAME:CDT
END:DAYLIGHT
BEGIN:STANDARD
TZOFFSETFROM:-0500
TZOFFSETTO:-0600
DTSTART:20071104T020000
RRULE:FREQ=YEARLY;BYMONTH=11;BYDAY=1SU
TZNAME:CST
END:STANDARD
END:VTIMEZONE
BEGIN:VEVENT
UID:7752b4ec-6eed-4142-8b27-99ba4865fd52.219908@calendar.missouristate.edu
CREATED:20220208T061520Z
LAST-MODIFIED:20220208T061520Z
LOCATION:Conway\, Ark.
SUMMARY:Missouri State University Football at Central Arkansas
DESCRIPTION:Missouri State University Football visits Central ArkansasTV: 
 ESPN3
X-ALT-DESC;FMTTYPE=text/html:&lt;html&gt;&lt;head&gt;&lt;title&gt;&lt;/title&gt;&lt;/head&gt;&lt;body&gt;Misso
 uri State University Football visits Central Arkansas&lt;br&gt;&lt;br&gt;TV: ESPN3&lt;/b
 ody&gt;&lt;/html&gt;
DTSTART;TZID=America/Chicago:20220901T190000
DTEND;TZID=America/Chicago:20220901T220000
SEQUENCE:1
URL:http://missouristatebears.com/index.aspx?path=football
CATEGORIES:Current Students,Future Students,Parents and Family,Alumni,
 Faculty,Staff,Community,Visitors,Athletics
END:VEVENT
END:VCALENDAR