BEGIN:VCALENDAR
VERSION:2.0
METHOD:PUBLISH
PRODID:-//Missouri State University/Calendar of Events//EN
CALSCALE:GREGORIAN
X-WR-TIMEZONE:America/Chicago
BEGIN:VTIMEZONE
TZID:America/Chicago
BEGIN:DAYLIGHT
TZOFFSETFROM:-0600
TZOFFSETTO:-0500
DTSTART:20070311T020000
RRULE:FREQ=YEARLY;BYMONTH=3;BYDAY=2SU
TZNAME:CDT
END:DAYLIGHT
BEGIN:STANDARD
TZOFFSETFROM:-0500
TZOFFSETTO:-0600
DTSTART:20071104T020000
RRULE:FREQ=YEARLY;BYMONTH=11;BYDAY=1SU
TZNAME:CST
END:STANDARD
END:VTIMEZONE
BEGIN:VEVENT
UID:cfe6590a-9baa-4f99-ad9c-3ebb6f4ebe49.219920@calendar.missouristate.edu
CREATED:20220208T163020Z
LAST-MODIFIED:20220208T163020Z
LOCATION:O’Reilly Clinical Health Sciences Center 100
SUMMARY:Physician Assistant Studies Open House Information Sessions
DESCRIPTION:The Physician Assistant Studies Department is hosting an on-ca
 mpus Open House information session with a presentation by LeAnne Snow\, 
 Admissions Coordinator/Academic Advisor. Prospective students will meet P
 AS faculty and staff\, participate in Q&amp;A session with current PA student
 s and take a brief tour of the O'Reilly Clinical Health Sciences Center.\
 nThe purpose of these sessions will be to provide information on the foll
 owing: PA Profession\, MSU PA Program\, Prerequisites\, Application and S
 election Process\, Admission\nDetails and RSVP information at the followi
 ng link: https://www.missouristate.edu/PAS/OpenHouse.htm
X-ALT-DESC;FMTTYPE=text/html:&lt;html&gt;&lt;head&gt;&lt;title&gt;&lt;/title&gt;&lt;/head&gt;&lt;body&gt;&lt;div&gt;
 The Physician Assistant Studies Department&amp;nbsp\;is hosting&amp;nbsp\;an on-c
 ampus Open House information session with a presentation by LeAnne Snow\,
  Admissions Coordinator/Academic Advisor. Prospective students will meet 
 PAS faculty and staff\, participate in Q&amp;amp\;A session with current PA s
 tudents and take a brief tour of the O'Reilly Clinical Health Sciences Ce
 nter.&lt;/div&gt;\n&lt;div&gt;The purpose of these sessions will be to provide inform
 ation on the following: PA Profession\, MSU PA Program\, Prerequisites\, 
 Application and Selection Process\, Admission&lt;/div&gt;\n&lt;div&gt;Details and RSV
 P information at the following link:&amp;nbsp\;&lt;a href="https://www.missouris
 tate.edu/PAS/OpenHouse.htm"&gt;https://www.missouristate.edu/PAS/OpenHouse.h
 tm&lt;/a&gt;&lt;/div&gt;&lt;/body&gt;&lt;/html&gt;
DTSTART;TZID=America/Chicago:20220218T130000
DTEND;TZID=America/Chicago:20220218T163000
SEQUENCE:0
URL:https://www.missouristate.edu/PAS/OpenHouse.htm
CATEGORIES:Public,Current Students,Future Students
END:VEVENT
END:VCALENDAR