BEGIN:VCALENDAR
VERSION:2.0
METHOD:PUBLISH
PRODID:-//Missouri State University/Calendar of Events//EN
CALSCALE:GREGORIAN
X-WR-TIMEZONE:America/Chicago
BEGIN:VTIMEZONE
TZID:America/Chicago
BEGIN:DAYLIGHT
TZOFFSETFROM:-0600
TZOFFSETTO:-0500
DTSTART:20070311T020000
RRULE:FREQ=YEARLY;BYMONTH=3;BYDAY=2SU
TZNAME:CDT
END:DAYLIGHT
BEGIN:STANDARD
TZOFFSETFROM:-0500
TZOFFSETTO:-0600
DTSTART:20071104T020000
RRULE:FREQ=YEARLY;BYMONTH=11;BYDAY=1SU
TZNAME:CST
END:STANDARD
END:VTIMEZONE
BEGIN:VEVENT
UID:8cd8c218-3112-4c43-bbe0-ca44b8f199f5.220037@calendar.missouristate.edu
CREATED:20220209T194237Z
LAST-MODIFIED:20220209T194237Z
LOCATION:Meyer Library\, Duane G. 204
SUMMARY:2022 Spring Faculty Writing Retreats
DESCRIPTION:Faculty Writing Retreats (in-person and virtual) will help you
  meet your writing goals for the year. Begin new articles\, revise and re
 submit\, polish your book proposal\, complete your last edits\, and conne
 ct and collaborate with other faculty scholars.\n\n\nRegister for any of 
 the following dates. If you register\, you may also choose to write along
  in your office or at home and join our lunchtime roundtable via Zoom. Al
 l sessions (unless noted as "virtual") are in Meyer Library Room 204 and 
 all sessions are from 8:30 a.m. to 4 p.m.\n\n\nPlease register through My
  Learning Connection.
X-ALT-DESC;FMTTYPE=text/html:&lt;html&gt;&lt;head&gt;&lt;title&gt;&lt;/title&gt;&lt;/head&gt;&lt;body&gt;&lt;p&gt;Fa
 culty Writing Retreats (in-person and virtual) will help you meet your wr
 iting goals for the year. Begin new articles\, revise and resubmit\, poli
 sh your book proposal\, complete your last edits\, and connect and collab
 orate with other faculty scholars.&lt;/p&gt;\n&lt;p&gt;Register for any of the follow
 ing dates. If you register\, you may also choose to write along in your o
 ffice or at home and join our lunchtime roundtable via Zoom. All sessions
  (unless noted as "virtual") are in Meyer Library Room 204 and all sessio
 ns are from 8:30 a.m. to 4 p.m.&lt;/p&gt;\n&lt;p&gt;Please register through My Learni
 ng Connection.&lt;/p&gt;&lt;/body&gt;&lt;/html&gt;
DTSTART;TZID=America/Chicago:20220216T083000
DTEND;TZID=America/Chicago:20220216T160000
SEQUENCE:0
URL:http://fctl@missouristate.edu
CATEGORIES:Faculty
END:VEVENT
END:VCALENDAR