BEGIN:VCALENDAR
VERSION:2.0
METHOD:PUBLISH
PRODID:-//Missouri State University/Calendar of Events//EN
CALSCALE:GREGORIAN
X-WR-TIMEZONE:America/Chicago
BEGIN:VTIMEZONE
TZID:America/Chicago
BEGIN:DAYLIGHT
TZOFFSETFROM:-0600
TZOFFSETTO:-0500
DTSTART:20070311T020000
RRULE:FREQ=YEARLY;BYMONTH=3;BYDAY=2SU
TZNAME:CDT
END:DAYLIGHT
BEGIN:STANDARD
TZOFFSETFROM:-0500
TZOFFSETTO:-0600
DTSTART:20071104T020000
RRULE:FREQ=YEARLY;BYMONTH=11;BYDAY=1SU
TZNAME:CST
END:STANDARD
END:VTIMEZONE
BEGIN:VEVENT
UID:cdd64407-324a-47bb-a788-4e2cad9103e2.220107@calendar.missouristate.edu
CREATED:20220215T221159Z
LAST-MODIFIED:20220215T221159Z
LOCATION:
SUMMARY:Slow Viewing Night at Carolla Arts Exhibition Center
DESCRIPTION:Join us in Slow Viewing Leticia Bajuyo's work currently on vie
 w at the Carolla Arts Exhibition Center.\n\n\nSlow Viewing is a supportiv
 e practice for anyone wanting to spend time with artwork\, slow down or d
 evelop their skills of interpretation\, observation and discussion of art
 . Guests will collectively spend an hour carefully observing and speaking
  about Bajuyo's work\, resulting in a deep understanding of how they and 
 others relate to the artwork and each other.\n\n\nThis program is develop
 ed and faciliated by the artist and graduate assistant Shauna LeAnn Smith
 . All are welcome and encouraged to join.\n\n\nPlease note: Slow Viewing 
 will be held indoors with seating six-feet apart. Masking is highly encou
 raged in all non-academic buildings on campus.\n\n\nCarolla Arts Exhibiti
 on Center's address is 326 N. Boonville Ave.\, Springfield\, MO 65806. Fi
 nd free public parking lots and street parking across the street.
X-ALT-DESC;FMTTYPE=text/html:&lt;html&gt;&lt;head&gt;&lt;title&gt;&lt;/title&gt;&lt;/head&gt;&lt;body&gt;&lt;p&gt;Jo
 in us in Slow Viewing Leticia Bajuyo's work currently on view at the Caro
 lla Arts Exhibition Center.&lt;/p&gt;\n&lt;p&gt;Slow Viewing is a supportive practice
  for anyone wanting to spend time with artwork\, slow down or develop the
 ir skills of interpretation\, observation and discussion of art. Guests w
 ill collectively spend an hour carefully observing and speaking about Baj
 uyo's work\, resulting in a deep understanding of how they and others rel
 ate to the artwork and each other.&lt;/p&gt;\n&lt;p&gt;This program is developed and 
 faciliated by the artist and graduate assistant Shauna LeAnn Smith. All a
 re welcome and encouraged to join.&lt;/p&gt;\n&lt;p&gt;Please note: Slow Viewing will
  be held indoors with seating six-feet apart. Masking is highly encourage
 d in all non-academic buildings on campus.&lt;/p&gt;\n&lt;p&gt;Carolla Arts Exhibitio
 n Center's address is 326 N. Boonville Ave.\, Springfield\, MO 65806. Fin
 d free public parking lots and street parking across the street.&lt;/p&gt;&lt;/bod
 y&gt;&lt;/html&gt;
DTSTART;TZID=America/Chicago:20220330T163000
DTEND;TZID=America/Chicago:20220330T173000
SEQUENCE:0
URL:https://galleries.missouristate.edu/Carolla/
CATEGORIES:Public,Alumni,Current Students,Faculty,Future Students,Staff
END:VEVENT
END:VCALENDAR