BEGIN:VCALENDAR
VERSION:2.0
METHOD:PUBLISH
PRODID:-//Missouri State University/Calendar of Events//EN
CALSCALE:GREGORIAN
X-WR-TIMEZONE:America/Chicago
BEGIN:VTIMEZONE
TZID:America/Chicago
BEGIN:DAYLIGHT
TZOFFSETFROM:-0600
TZOFFSETTO:-0500
DTSTART:20070311T020000
RRULE:FREQ=YEARLY;BYMONTH=3;BYDAY=2SU
TZNAME:CDT
END:DAYLIGHT
BEGIN:STANDARD
TZOFFSETFROM:-0500
TZOFFSETTO:-0600
DTSTART:20071104T020000
RRULE:FREQ=YEARLY;BYMONTH=11;BYDAY=1SU
TZNAME:CST
END:STANDARD
END:VTIMEZONE
BEGIN:VEVENT
UID:949018c1-ac1c-467b-9dcc-66fc00f2e36d.220234@calendar.missouristate.edu
CREATED:20220224T224333Z
LAST-MODIFIED:20220224T224333Z
LOCATION:Plaster Stadium\, Robert W. 308
SUMMARY:Ed. Abroad: Re-Entry Workshop and Photo Contest
DESCRIPTION:The Office of Education Abroad will host its Re-Entry Workshop
  for students who’ve returned from their 2021 education abroad experience
 s.\n\n\nPlease join Education Abroad staff as we unpack your time abroad\
 , consider your culture shock and possible reverse culture shock\, option
 s for highlighting your story\, and announce the winners of our photo con
 test! Come hungry as we’ll provide food and beverages for our reflection 
 time together.
X-ALT-DESC;FMTTYPE=text/html:&lt;html&gt;&lt;head&gt;&lt;title&gt;&lt;/title&gt;&lt;/head&gt;&lt;body&gt;&lt;p&gt;Th
 e Office of Education Abroad will host its &lt;strong&gt;Re-Entry Workshop&lt;/str
 ong&gt; for students who’ve returned from their 2021 education abroad experi
 ences.&lt;/p&gt;\n&lt;p&gt;Please join Education Abroad staff as we unpack your time 
 abroad\, consider your culture shock and possible reverse culture shock\,
  options for highlighting your story\, and announce the winners of our &lt;a
  href="https://international.missouristate.edu/EducationAbroad/education-
 abroad-student-photo.htm" target="_blank"&gt;photo contest&lt;/a&gt;! Come hungry 
 as we’ll provide food and beverages for our reflection time together.&lt;/p&gt;
 &lt;/body&gt;&lt;/html&gt;
DTSTART;TZID=America/Chicago:20220324T150000
DTEND;TZID=America/Chicago:20220324T163000
SEQUENCE:0
URL:https://international.missouristate.edu/EducationAbroad/education-abro
 ad-student-photo.htm
CATEGORIES:Current Students
END:VEVENT
END:VCALENDAR