BEGIN:VCALENDAR
VERSION:2.0
METHOD:PUBLISH
PRODID:-//Missouri State University/Calendar of Events//EN
CALSCALE:GREGORIAN
X-WR-TIMEZONE:America/Chicago
BEGIN:VTIMEZONE
TZID:America/Chicago
BEGIN:DAYLIGHT
TZOFFSETFROM:-0600
TZOFFSETTO:-0500
DTSTART:20070311T020000
RRULE:FREQ=YEARLY;BYMONTH=3;BYDAY=2SU
TZNAME:CDT
END:DAYLIGHT
BEGIN:STANDARD
TZOFFSETFROM:-0500
TZOFFSETTO:-0600
DTSTART:20071104T020000
RRULE:FREQ=YEARLY;BYMONTH=11;BYDAY=1SU
TZNAME:CST
END:STANDARD
END:VTIMEZONE
BEGIN:VEVENT
UID:6f8cf178-d666-4b8e-b3bb-6983fda8ef66.220147@calendar.missouristate.edu
CREATED:20220215T205942Z
LAST-MODIFIED:20220215T205942Z
LOCATION:Davis-Harrington Welcome Center
SUMMARY:Master Advisor Reception
DESCRIPTION:Coordinated by the Academic Advising and Transfer Center\n\n\n
 Come celebrate the 2022 Curtis P. Lawrence Excellence in Advising Award W
 inners. President Clif Smart\, Dr. Kelly Wood\, associate provost for stu
 dent success\, and Ross Hawkins\, director of the Academic Advising and T
 ransfer Center\, will give opening remarks on academic advising and the M
 aster Advisor Program at Missouri State University. This celebration is o
 pen to all advisors.\n\n\nRegistration is required at Advise@MissouriStat
 e.edu.
X-ALT-DESC;FMTTYPE=text/html:&lt;html&gt;&lt;head&gt;&lt;title&gt;&lt;/title&gt;&lt;/head&gt;&lt;body&gt;&lt;p&gt;&lt;b
 &gt;&lt;span&gt;Coordinated by the Academic Advising and Transfer Center&lt;/span&gt;&lt;/b
 &gt;&lt;/p&gt;\n&lt;p&gt;&lt;span&gt;Come celebrate the 2022 Curtis P. Lawrence Excellence in 
 Advising Award Winners. President Clif Smart\, Dr. Kelly Wood\, associate
  provost for student success\, and Ross Hawkins\, director of the Academi
 c Advising and Transfer Center\, will give opening remarks on academic ad
 vising and the Master Advisor Program at Missouri State University. This 
 celebration is open to all advisors.&lt;/span&gt;&lt;/p&gt;\n&lt;p&gt;&lt;span&gt;Registration is
  required at &lt;/span&gt;&lt;a&gt;&lt;b&gt;&lt;span&gt;Advise@MissouriState.edu&lt;/span&gt;&lt;/b&gt;&lt;span&gt;
 .&lt;/span&gt;&lt;/a&gt;&lt;span&gt;&lt;/span&gt;&lt;/p&gt;&lt;/body&gt;&lt;/html&gt;
DTSTART;TZID=America/Chicago:20220324T160000
DTEND;TZID=America/Chicago:20220324T170000
SEQUENCE:0
URL:https://www.missouristate.edu/Advising/forum-schedule.htm
CATEGORIES:Alumni,Current Students,Faculty,Staff
END:VEVENT
END:VCALENDAR