BEGIN:VCALENDAR
VERSION:2.0
METHOD:PUBLISH
PRODID:-//Missouri State University/Calendar of Events//EN
CALSCALE:GREGORIAN
X-WR-TIMEZONE:America/Chicago
BEGIN:VTIMEZONE
TZID:America/Chicago
BEGIN:DAYLIGHT
TZOFFSETFROM:-0600
TZOFFSETTO:-0500
DTSTART:20070311T020000
RRULE:FREQ=YEARLY;BYMONTH=3;BYDAY=2SU
TZNAME:CDT
END:DAYLIGHT
BEGIN:STANDARD
TZOFFSETFROM:-0500
TZOFFSETTO:-0600
DTSTART:20071104T020000
RRULE:FREQ=YEARLY;BYMONTH=11;BYDAY=1SU
TZNAME:CST
END:STANDARD
END:VTIMEZONE
BEGIN:VEVENT
UID:ff4bc43c-9a04-47aa-91f8-2461be90d957.220148@calendar.missouristate.edu
CREATED:20220215T210533Z
LAST-MODIFIED:20220215T210533Z
LOCATION:Meyer Alumni Center\, Kenneth E. 118
SUMMARY:Spring 2022 Academic Advisor Forum Series: Better Understanding th
 e Transfer Process: A Transfer Advising Workshop
DESCRIPTION:Spring 2022 Academic Advisor Forum Series\n\n\nPlease make pla
 ns to attend Academic Advisor forums this semester. All sessions count to
 ward the three hours needed for annual renewal of the Master Advisor desi
 gnation. The forums are available to the advising community\, so please e
 ncourage colleagues to participate.\n\n\nRegistration is available.  \n\n
 \nBetter Understanding the Transfer Process: A Transfer Advising Workshop
 \n\n\nCoordinated by the Transfer Advising Committee\n\n\nThis two-hour w
 orkshop will allow participants to develop a better understanding of the 
 transfer process\, from the perspectives of Admissions staff\, a transfer
  advisor and a transfer student. Emphasis will be placed on transfer advi
 sing FAQs and resources for transfer advisors. Participants will also be 
 able to learn more about the application process\, transfer scholarships 
 and transfer student orientation. Lastly\, participants will have the opp
 ortunity to hear from current transfer students on their transfer experie
 nce. An optional networking lunch will follow. \n\n\nOptional networking 
 lunch to follow from 12:15-1:15 p.m.\n\n\nRegistration is encouraged.
X-ALT-DESC;FMTTYPE=text/html:&lt;html&gt;&lt;head&gt;&lt;title&gt;&lt;/title&gt;&lt;/head&gt;&lt;body&gt;&lt;p&gt;Sp
 ring 2022 Academic Advisor Forum Series&lt;/p&gt;\n&lt;p&gt;Please make plans to atte
 nd Academic Advisor forums this semester. All sessions count toward the t
 hree hours needed for annual renewal of the Master Advisor designation. T
 he forums are available to the advising community\, so please encourage c
 olleagues to participate.&lt;/p&gt;\n&lt;p&gt;&lt;a href="http://www.missouristate.edu/a
 dvising/42540.htm"&gt;Registration is available&lt;/a&gt;.&amp;nbsp\;&amp;nbsp\;&lt;/p&gt;\n&lt;p&gt;B
 etter Understanding the Transfer Process: A Transfer Advising Workshop&lt;/p
 &gt;\n&lt;p&gt;Coordinated by the Transfer Advising Committee&lt;/p&gt;\n&lt;p&gt;This two-hou
 r workshop will allow participants to develop a better understanding of t
 he transfer process\, from the perspectives of Admissions staff\, a trans
 fer advisor and a transfer student. Emphasis will be placed on transfer a
 dvising FAQs and resources for transfer advisors. Participants will also 
 be able to learn more about the application process\, transfer scholarshi
 ps and transfer student orientation. Lastly\, participants will have the 
 opportunity to hear from current transfer students on their transfer expe
 rience. An optional networking lunch will follow.&amp;nbsp\;&lt;/p&gt;\n&lt;p&gt;Optional
  networking lunch to follow from 12:15-1:15 p.m.&lt;/p&gt;\n&lt;p&gt;Registration is 
 encouraged.&lt;/p&gt;\n&lt;p&gt;&lt;/p&gt;&lt;/body&gt;&lt;/html&gt;
DTSTART;TZID=America/Chicago:20220503T100000
DTEND;TZID=America/Chicago:20220503T120000
SEQUENCE:2
URL:https://www.missouristate.edu/Advising/forum-schedule.htm
CATEGORIES:Alumni,Current Students,Faculty,Staff
END:VEVENT
END:VCALENDAR