BEGIN:VCALENDAR
VERSION:2.0
METHOD:PUBLISH
PRODID:-//Missouri State University/Calendar of Events//EN
CALSCALE:GREGORIAN
X-WR-TIMEZONE:America/Chicago
BEGIN:VTIMEZONE
TZID:America/Chicago
BEGIN:DAYLIGHT
TZOFFSETFROM:-0600
TZOFFSETTO:-0500
DTSTART:20070311T020000
RRULE:FREQ=YEARLY;BYMONTH=3;BYDAY=2SU
TZNAME:CDT
END:DAYLIGHT
BEGIN:STANDARD
TZOFFSETFROM:-0500
TZOFFSETTO:-0600
DTSTART:20071104T020000
RRULE:FREQ=YEARLY;BYMONTH=11;BYDAY=1SU
TZNAME:CST
END:STANDARD
END:VTIMEZONE
BEGIN:VEVENT
UID:517286f5-44c0-43e4-af10-c27bf1ecc8bf.220169@calendar.missouristate.edu
CREATED:20220216T182739Z
LAST-MODIFIED:20220216T182739Z
LOCATION:Glass Hall\, David D. 108
SUMMARY:MarCom Training Week 2022: Think like a journalist: The event is n
 ot the story 
DESCRIPTION:In this session\, we’ll discuss: \n\n\n\nHow to make important
  news interesting. \nStrategies to say more in fewer words. \nOpportuniti
 es to put students front and center. \nFree online tools that will help y
 ou create compelling stories.\n\nRegistration is required at My Learning 
 Connection in my.missouristate.edu.\n\n\n\nGo to your profile tab.\nFind 
 the Professional Development box.\nSelect My Learning Connection.\nSearch
  for this session.\nSign up.
X-ALT-DESC;FMTTYPE=text/html:&lt;html&gt;&lt;head&gt;&lt;title&gt;&lt;/title&gt;&lt;/head&gt;&lt;body&gt;&lt;p&gt;In
  this session\, we’ll discuss:&amp;nbsp\;&lt;/p&gt;\n&lt;ul&gt;\n&lt;li&gt;How to make importan
 t news interesting.&amp;nbsp\;&lt;/li&gt;\n&lt;li&gt;Strategies to say more in fewer word
 s.&amp;nbsp\;&lt;/li&gt;\n&lt;li&gt;Opportunities to put students front and center.&amp;nbsp\
 ;&lt;/li&gt;\n&lt;li&gt;Free online tools that will help you create compelling storie
 s.&lt;/li&gt;\n&lt;/ul&gt;\n&lt;p&gt;Registration is required at My Learning Connection in 
 my.missouristate.edu.&lt;/p&gt;\n&lt;ul&gt;\n&lt;li&gt;Go to your profile tab.&lt;/li&gt;\n&lt;li&gt;Fi
 nd the Professional Development box.&lt;/li&gt;\n&lt;li&gt;Select My Learning Connect
 ion.&lt;/li&gt;\n&lt;li&gt;Search for&amp;nbsp\;this session.&lt;/li&gt;\n&lt;li&gt;Sign up.&lt;/li&gt;\n&lt;/
 ul&gt;&lt;/body&gt;&lt;/html&gt;
DTSTART;TZID=America/Chicago:20220328T130000
DTEND;TZID=America/Chicago:20220328T140000
SEQUENCE:0
URL:115577.jpg
CATEGORIES:Faculty,Staff
END:VEVENT
END:VCALENDAR