BEGIN:VCALENDAR
VERSION:2.0
METHOD:PUBLISH
PRODID:-//Missouri State University/Calendar of Events//EN
CALSCALE:GREGORIAN
X-WR-TIMEZONE:America/Chicago
BEGIN:VTIMEZONE
TZID:America/Chicago
BEGIN:DAYLIGHT
TZOFFSETFROM:-0600
TZOFFSETTO:-0500
DTSTART:20070311T020000
RRULE:FREQ=YEARLY;BYMONTH=3;BYDAY=2SU
TZNAME:CDT
END:DAYLIGHT
BEGIN:STANDARD
TZOFFSETFROM:-0500
TZOFFSETTO:-0600
DTSTART:20071104T020000
RRULE:FREQ=YEARLY;BYMONTH=11;BYDAY=1SU
TZNAME:CST
END:STANDARD
END:VTIMEZONE
BEGIN:VEVENT
UID:66c602a7-9b58-4301-be9b-f22bb7d99dad.220170@calendar.missouristate.edu
CREATED:20220216T194611Z
LAST-MODIFIED:20220216T194611Z
LOCATION:Glass Hall\, David D. 101
SUMMARY:MarCom Training Week 2022: How to look like Missouri State
DESCRIPTION:During this session\, you'll learn:\n\n\n\nBrand visual guidel
 ines.\nWhat brand resources are available. \nHow to use university logos 
 and branding elements.\nBest practices for designing within the brand.\n\
 nRegistration is required at My Learning Connection in my.missouristate.e
 du.\n\n\n\nGo to your profile tab.\nFind the Professional Development box
 .\nSelect My Learning Connection.\nSearch for this session.\nSign up.
X-ALT-DESC;FMTTYPE=text/html:&lt;html&gt;&lt;head&gt;&lt;title&gt;&lt;/title&gt;&lt;/head&gt;&lt;body&gt;&lt;p&gt;Du
 ring this session\, you'll learn:&lt;/p&gt;\n&lt;ul&gt;\n&lt;li&gt;Brand visual guidelines.
 &lt;/li&gt;\n&lt;li&gt;What brand resources are available.&amp;nbsp\;&lt;/li&gt;\n&lt;li&gt;How to us
 e university logos and branding elements.&lt;/li&gt;\n&lt;li&gt;Best practices for de
 signing within the brand.&lt;/li&gt;\n&lt;/ul&gt;\n&lt;p&gt;Registration is required at My 
 Learning Connection in my.missouristate.edu.&lt;/p&gt;\n&lt;ul&gt;\n&lt;li&gt;Go to your pr
 ofile tab.&lt;/li&gt;\n&lt;li&gt;Find the Professional Development box.&lt;/li&gt;\n&lt;li&gt;Sel
 ect My Learning Connection.&lt;/li&gt;\n&lt;li&gt;Search for this session.&lt;/li&gt;\n&lt;li&gt;
 Sign up.&lt;/li&gt;\n&lt;/ul&gt;&lt;/body&gt;&lt;/html&gt;
DTSTART;TZID=America/Chicago:20220329T090000
DTEND;TZID=America/Chicago:20220329T100000
SEQUENCE:1
URL:115578.jpg
CATEGORIES:Faculty,Staff
END:VEVENT
END:VCALENDAR