BEGIN:VCALENDAR
VERSION:2.0
METHOD:PUBLISH
PRODID:-//Missouri State University/Calendar of Events//EN
CALSCALE:GREGORIAN
X-WR-TIMEZONE:America/Chicago
BEGIN:VTIMEZONE
TZID:America/Chicago
BEGIN:DAYLIGHT
TZOFFSETFROM:-0600
TZOFFSETTO:-0500
DTSTART:20070311T020000
RRULE:FREQ=YEARLY;BYMONTH=3;BYDAY=2SU
TZNAME:CDT
END:DAYLIGHT
BEGIN:STANDARD
TZOFFSETFROM:-0500
TZOFFSETTO:-0600
DTSTART:20071104T020000
RRULE:FREQ=YEARLY;BYMONTH=11;BYDAY=1SU
TZNAME:CST
END:STANDARD
END:VTIMEZONE
BEGIN:VEVENT
UID:2283aeff-5498-4abd-a6e6-48fbf4014dc5.220171@calendar.missouristate.edu
CREATED:20220216T183742Z
LAST-MODIFIED:20220216T183742Z
LOCATION:Glass Hall\, David D. 101
SUMMARY:MarCom Training Week 2022: Making your statement with video
DESCRIPTION:Discover tips\, tricks and resources to help you make more eng
 aging videos to share across your favorite social media channels. \n\n\nI
 n this session\, you'll learn: \n\n\n\nWhat elements make a good video? \
 nHow to plan your video shoot: production timeline.\nWhat techniques you 
 can use to improve your video – demonstration. \nGetting started/gear.\nV
 ideo in social media. \nMaking videos specifically with your phone.\n\nRe
 gistration is required at My Learning Connection in my.missouristate.edu.
 \n\n\n\nGo to your profile tab.\nFind the Professional Development box.\n
 Select My Learning Connection.\nSearch for this session.\nSign up.
X-ALT-DESC;FMTTYPE=text/html:&lt;html&gt;&lt;head&gt;&lt;title&gt;&lt;/title&gt;&lt;/head&gt;&lt;body&gt;&lt;p&gt;Di
 scover tips\, tricks and resources to help you make more engaging videos 
 to share across your favorite social media channels.&amp;nbsp\;&lt;/p&gt;\n&lt;p&gt;In th
 is session\, you'll learn:&amp;nbsp\;&lt;/p&gt;\n&lt;ul&gt;\n&lt;li&gt;What elements make a goo
 d video?&amp;nbsp\;&lt;/li&gt;\n&lt;li&gt;How to plan your video shoot: production timeli
 ne.&lt;/li&gt;\n&lt;li&gt;What techniques you can use to improve your video – demonst
 ration.&amp;nbsp\;&lt;/li&gt;\n&lt;li&gt;Getting started/gear.&lt;/li&gt;\n&lt;li&gt;Video in social 
 media.&amp;nbsp\;&lt;/li&gt;\n&lt;li&gt;Making videos specifically with your phone.&lt;/li&gt;\
 n&lt;/ul&gt;\n&lt;p&gt;Registration is required at My Learning Connection in my.misso
 uristate.edu.&lt;/p&gt;\n&lt;ul&gt;\n&lt;li&gt;Go to your profile tab.&lt;/li&gt;\n&lt;li&gt;Find the P
 rofessional Development box.&lt;/li&gt;\n&lt;li&gt;Select My Learning Connection.&lt;/li
 &gt;\n&lt;li&gt;Search for this session.&lt;/li&gt;\n&lt;li&gt;Sign up.&lt;/li&gt;\n&lt;/ul&gt;&lt;/body&gt;&lt;/ht
 ml&gt;
DTSTART;TZID=America/Chicago:20220329T103000
DTEND;TZID=America/Chicago:20220329T120000
SEQUENCE:0
URL:115579.jpg
CATEGORIES:Faculty,Staff
END:VEVENT
END:VCALENDAR