BEGIN:VCALENDAR
VERSION:2.0
METHOD:PUBLISH
PRODID:-//Missouri State University/Calendar of Events//EN
CALSCALE:GREGORIAN
X-WR-TIMEZONE:America/Chicago
BEGIN:VTIMEZONE
TZID:America/Chicago
BEGIN:DAYLIGHT
TZOFFSETFROM:-0600
TZOFFSETTO:-0500
DTSTART:20070311T020000
RRULE:FREQ=YEARLY;BYMONTH=3;BYDAY=2SU
TZNAME:CDT
END:DAYLIGHT
BEGIN:STANDARD
TZOFFSETFROM:-0500
TZOFFSETTO:-0600
DTSTART:20071104T020000
RRULE:FREQ=YEARLY;BYMONTH=11;BYDAY=1SU
TZNAME:CST
END:STANDARD
END:VTIMEZONE
BEGIN:VEVENT
UID:9fb6d01d-6593-466b-89b3-cd560e105502.220172@calendar.missouristate.edu
CREATED:20220216T184255Z
LAST-MODIFIED:20220216T184255Z
LOCATION:Glass Hall\, David D. 108
SUMMARY:MarCom Training Week 2022: How to go from good to great with socia
 l media
DESCRIPTION:In this session\, we’ll discuss:\n\n\n\nThe connection between
  psychology and social media. \nHow to generate easy content wins with bl
 og posts. \nWays to re-think your calls to action. \nHow to merge your vo
 ice with the brand’s.\nStrategies for accessible content creation.  \n\nR
 egistration is required at My Learning Connection in my.missouristate.edu
 .\n\n\n\nGo to your profile tab.\nFind the Professional Development box.\
 nSelect My Learning Connection.\nSearch for this session.\nSign up.
X-ALT-DESC;FMTTYPE=text/html:&lt;html&gt;&lt;head&gt;&lt;title&gt;&lt;/title&gt;&lt;/head&gt;&lt;body&gt;&lt;p&gt;In
  this session\, we’ll discuss:&lt;/p&gt;\n&lt;ul&gt;\n&lt;li&gt;The connection between psyc
 hology and social media.&amp;nbsp\;&lt;/li&gt;\n&lt;li&gt;How to generate easy content wi
 ns with blog posts.&amp;nbsp\;&lt;/li&gt;\n&lt;li&gt;Ways to re-think your calls to actio
 n.&amp;nbsp\;&lt;/li&gt;\n&lt;li&gt;How to merge your voice with the brand’s.&lt;/li&gt;\n&lt;li&gt;S
 trategies for accessible content creation.&amp;nbsp\;&amp;nbsp\;&lt;/li&gt;\n&lt;/ul&gt;\n&lt;p&gt;
 Registration is required at My Learning Connection in my.missouristate.ed
 u.&lt;/p&gt;\n&lt;ul&gt;\n&lt;li&gt;Go to your profile tab.&lt;/li&gt;\n&lt;li&gt;Find the Professional
  Development box.&lt;/li&gt;\n&lt;li&gt;Select My Learning Connection.&lt;/li&gt;\n&lt;li&gt;Sear
 ch for this session.&lt;/li&gt;\n&lt;li&gt;Sign up.&lt;/li&gt;\n&lt;/ul&gt;&lt;/body&gt;&lt;/html&gt;
DTSTART;TZID=America/Chicago:20220330T130000
DTEND;TZID=America/Chicago:20220330T150000
SEQUENCE:0
URL:115580.jpg
CATEGORIES:Faculty,Staff
END:VEVENT
END:VCALENDAR