BEGIN:VCALENDAR
VERSION:2.0
METHOD:PUBLISH
PRODID:-//Missouri State University/Calendar of Events//EN
CALSCALE:GREGORIAN
X-WR-TIMEZONE:America/Chicago
BEGIN:VTIMEZONE
TZID:America/Chicago
BEGIN:DAYLIGHT
TZOFFSETFROM:-0600
TZOFFSETTO:-0500
DTSTART:20070311T020000
RRULE:FREQ=YEARLY;BYMONTH=3;BYDAY=2SU
TZNAME:CDT
END:DAYLIGHT
BEGIN:STANDARD
TZOFFSETFROM:-0500
TZOFFSETTO:-0600
DTSTART:20071104T020000
RRULE:FREQ=YEARLY;BYMONTH=11;BYDAY=1SU
TZNAME:CST
END:STANDARD
END:VTIMEZONE
BEGIN:VEVENT
UID:bc5af859-174d-4f50-ac04-0e6b35cfb08a.220173@calendar.missouristate.edu
CREATED:20220216T184523Z
LAST-MODIFIED:20220216T184523Z
LOCATION:Glass Hall\, David D. 108
SUMMARY:MarCom Training Week 2022: Making your statement with photography
DESCRIPTION:In this session\, you'll:\n\n\n\nLearn how to best utilize pho
 tography services and make your photo request productive. \nGet tips abou
 t how to use your own camera or cell phone to take great photos.\nFind ou
 t how to work with people\, some basic posing and lighting\, handle relea
 ses and set the stage for an image that fits your needs.\n\nRegistration 
 is required at My Learning Connection in my.missouristate.edu.\n\n\n\nGo 
 to your profile tab.\nFind the Professional Development box.\nSelect My L
 earning Connection.\nSearch for this session.\nSign up.
X-ALT-DESC;FMTTYPE=text/html:&lt;html&gt;&lt;head&gt;&lt;title&gt;&lt;/title&gt;&lt;/head&gt;&lt;body&gt;&lt;p&gt;In
  this session\, you'll:&lt;/p&gt;\n&lt;ul&gt;\n&lt;li&gt;Learn how to best utilize photogra
 phy services and make your photo request productive.&amp;nbsp\;&lt;/li&gt;\n&lt;li&gt;Get
  tips about how to use your own camera or cell phone to take great photos
 .&lt;/li&gt;\n&lt;li&gt;Find out how to work with people\, some basic posing and ligh
 ting\, handle releases and set the stage for an image that fits your need
 s.&lt;/li&gt;\n&lt;/ul&gt;\n&lt;p&gt;Registration is required at My Learning Connection in 
 my.missouristate.edu.&lt;/p&gt;\n&lt;ul&gt;\n&lt;li&gt;Go to your profile tab.&lt;/li&gt;\n&lt;li&gt;Fi
 nd the Professional Development box.&lt;/li&gt;\n&lt;li&gt;Select My Learning Connect
 ion.&lt;/li&gt;\n&lt;li&gt;Search for this session.&lt;/li&gt;\n&lt;li&gt;Sign up.&lt;/li&gt;\n&lt;/ul&gt;&lt;/b
 ody&gt;&lt;/html&gt;
DTSTART;TZID=America/Chicago:20220330T153000
DTEND;TZID=America/Chicago:20220330T163000
SEQUENCE:0
URL:115581.jpg
CATEGORIES:Faculty,Staff
END:VEVENT
END:VCALENDAR