BEGIN:VCALENDAR
VERSION:2.0
METHOD:PUBLISH
PRODID:-//Missouri State University/Calendar of Events//EN
CALSCALE:GREGORIAN
X-WR-TIMEZONE:America/Chicago
BEGIN:VTIMEZONE
TZID:America/Chicago
BEGIN:DAYLIGHT
TZOFFSETFROM:-0600
TZOFFSETTO:-0500
DTSTART:20070311T020000
RRULE:FREQ=YEARLY;BYMONTH=3;BYDAY=2SU
TZNAME:CDT
END:DAYLIGHT
BEGIN:STANDARD
TZOFFSETFROM:-0500
TZOFFSETTO:-0600
DTSTART:20071104T020000
RRULE:FREQ=YEARLY;BYMONTH=11;BYDAY=1SU
TZNAME:CST
END:STANDARD
END:VTIMEZONE
BEGIN:VEVENT
UID:7ca1d32f-b63f-48d6-8fe5-ff64d253829d.220174@calendar.missouristate.edu
CREATED:20220216T185835Z
LAST-MODIFIED:20220216T185835Z
LOCATION:Glass Hall\, David D. 101
SUMMARY:MarCom Training Week 2022: How to sound like Missouri State
DESCRIPTION:During this session\, you'll learn: \n\n\n\nHow to write about
  Missouri State within brand. \nAbout the assistance available within the
  brand website. \nWhat style to use when writing for the university. \nBe
 st practices for readability and accessibility. \nBlogging tips and hacks
  for making your online post the best it can be. \n\nRegistration is requ
 ired at My Learning Connection in my.missouristate.edu.\n\n\n\nGo to your
  profile tab.\nFind the Professional Development box.\nSelect My Learning
  Connection.\nSearch for this session.\nSign up.
X-ALT-DESC;FMTTYPE=text/html:&lt;html&gt;&lt;head&gt;&lt;title&gt;&lt;/title&gt;&lt;/head&gt;&lt;body&gt;&lt;p&gt;Du
 ring this session\, you'll learn:&amp;nbsp\;&lt;/p&gt;\n&lt;ul&gt;\n&lt;li&gt;How to write abou
 t Missouri State within brand.&amp;nbsp\;&lt;/li&gt;\n&lt;li&gt;About the assistance avai
 lable within the brand website.&amp;nbsp\;&lt;/li&gt;\n&lt;li&gt;What style to use when w
 riting for the university.&amp;nbsp\;&lt;/li&gt;\n&lt;li&gt;Best practices for readabilit
 y and accessibility.&amp;nbsp\;&lt;/li&gt;\n&lt;li&gt;Blogging tips and hacks for making 
 your online post the best it can be.&amp;nbsp\;&lt;/li&gt;\n&lt;/ul&gt;\n&lt;p&gt;Registration 
 is required at My Learning Connection in my.missouristate.edu.&lt;/p&gt;\n&lt;ul&gt;\
 n&lt;li&gt;Go to your profile tab.&lt;/li&gt;\n&lt;li&gt;Find the Professional Development 
 box.&lt;/li&gt;\n&lt;li&gt;Select My Learning Connection.&lt;/li&gt;\n&lt;li&gt;Search for this s
 ession.&lt;/li&gt;\n&lt;li&gt;Sign up.&lt;/li&gt;\n&lt;/ul&gt;&lt;/body&gt;&lt;/html&gt;
DTSTART;TZID=America/Chicago:20220331T083000
DTEND;TZID=America/Chicago:20220331T093000
SEQUENCE:1
URL:115582.jpg
CATEGORIES:Faculty,Staff
END:VEVENT
END:VCALENDAR