BEGIN:VCALENDAR
VERSION:2.0
METHOD:PUBLISH
PRODID:-//Missouri State University/Calendar of Events//EN
CALSCALE:GREGORIAN
X-WR-TIMEZONE:America/Chicago
BEGIN:VTIMEZONE
TZID:America/Chicago
BEGIN:DAYLIGHT
TZOFFSETFROM:-0600
TZOFFSETTO:-0500
DTSTART:20070311T020000
RRULE:FREQ=YEARLY;BYMONTH=3;BYDAY=2SU
TZNAME:CDT
END:DAYLIGHT
BEGIN:STANDARD
TZOFFSETFROM:-0500
TZOFFSETTO:-0600
DTSTART:20071104T020000
RRULE:FREQ=YEARLY;BYMONTH=11;BYDAY=1SU
TZNAME:CST
END:STANDARD
END:VTIMEZONE
BEGIN:VEVENT
UID:a9b0e18c-b7fc-4119-8c40-dfa7445b9d08.220175@calendar.missouristate.edu
CREATED:20220216T185242Z
LAST-MODIFIED:20220216T185242Z
LOCATION:Glass Hall\, David D. 101
SUMMARY:MarCom Training Week 2022: Easy website wins for student recruitme
 nt
DESCRIPTION:In this session\, we’ll discuss ways to update your website to
  help prospective students.  \n\n\n\nSteps you can take to rank higher on
  Google search results pages (SEO basics).  \nFree online tools for keywo
 rd research and content development.  \nContent and layout opportunities 
 for better engagement.   \nWebsite user experience best practices.  \n\nR
 egistration is required at My Learning Connection in my.missouristate.edu
 .\n\n\n\nGo to your profile tab.\nFind the Professional Development box.\
 nSelect My Learning Connection.\nSearch for this session.\nSign up.
X-ALT-DESC;FMTTYPE=text/html:&lt;html&gt;&lt;head&gt;&lt;title&gt;&lt;/title&gt;&lt;/head&gt;&lt;body&gt;&lt;p&gt;In
  this session\, we’ll discuss ways to update your website to help prospec
 tive students.&amp;nbsp\;&amp;nbsp\;&lt;/p&gt;\n&lt;ul&gt;\n&lt;li&gt;Steps you can take to rank hi
 gher on Google search results pages (SEO basics).&amp;nbsp\;&amp;nbsp\;&lt;/li&gt;\n&lt;li
 &gt;Free online tools for keyword research and content development.&amp;nbsp\;&amp;n
 bsp\;&lt;/li&gt;\n&lt;li&gt;Content and layout opportunities for better engagement.&amp;n
 bsp\; &amp;nbsp\;&lt;/li&gt;\n&lt;li&gt;Website user experience best practices.&amp;nbsp\;&amp;nb
 sp\;&lt;/li&gt;\n&lt;/ul&gt;\n&lt;p&gt;Registration is required at My Learning Connection i
 n my.missouristate.edu.&lt;/p&gt;\n&lt;ul&gt;\n&lt;li&gt;Go to your profile tab.&lt;/li&gt;\n&lt;li&gt;
 Find the Professional Development box.&lt;/li&gt;\n&lt;li&gt;Select My Learning Conne
 ction.&lt;/li&gt;\n&lt;li&gt;Search for this session.&lt;/li&gt;\n&lt;li&gt;Sign up.&lt;/li&gt;\n&lt;/ul&gt;&lt;
 /body&gt;&lt;/html&gt;
DTSTART;TZID=America/Chicago:20220331T100000
DTEND;TZID=America/Chicago:20220331T110000
SEQUENCE:0
URL:115583.jpg
CATEGORIES:Faculty,Staff
END:VEVENT
END:VCALENDAR