BEGIN:VCALENDAR
VERSION:2.0
METHOD:PUBLISH
PRODID:-//Missouri State University/Calendar of Events//EN
CALSCALE:GREGORIAN
X-WR-TIMEZONE:America/Chicago
BEGIN:VTIMEZONE
TZID:America/Chicago
BEGIN:DAYLIGHT
TZOFFSETFROM:-0600
TZOFFSETTO:-0500
DTSTART:20070311T020000
RRULE:FREQ=YEARLY;BYMONTH=3;BYDAY=2SU
TZNAME:CDT
END:DAYLIGHT
BEGIN:STANDARD
TZOFFSETFROM:-0500
TZOFFSETTO:-0600
DTSTART:20071104T020000
RRULE:FREQ=YEARLY;BYMONTH=11;BYDAY=1SU
TZNAME:CST
END:STANDARD
END:VTIMEZONE
BEGIN:VEVENT
UID:eea72f62-f860-4756-8e67-51546d02812b.220176@calendar.missouristate.edu
CREATED:20220216T185529Z
LAST-MODIFIED:20220216T185529Z
LOCATION:Glass Hall\, David D. 101
SUMMARY:MarCom Training Week 2022: How to be a web content star
DESCRIPTION:In this session\, we’ll discuss:? \n\n\n\nOmni CMS\, the unive
 rsity’s new content management system\, and how it makes editing your web
 site much easier\, and DubBot\, a robust tool for auditing spelling\, acc
 essibility compliance and broken links on your website. \nTips for making
  your website usable and accessible for all (including search engines). \
 n\nRegistration is required at My Learning Connection in my.missouristate
 .edu.\n\n\n\nGo to your profile tab.\nFind the Professional Development b
 ox.\nSelect My Learning Connection.\nSearch for this session.\nSign up.
X-ALT-DESC;FMTTYPE=text/html:&lt;html&gt;&lt;head&gt;&lt;title&gt;&lt;/title&gt;&lt;/head&gt;&lt;body&gt;&lt;p&gt;In
  this session\, we’ll discuss:?&amp;nbsp\;&lt;/p&gt;\n&lt;ul&gt;\n&lt;li&gt;Omni CMS\, the univ
 ersity’s new content management system\, and how it makes editing your we
 bsite much easier\, and DubBot\, a robust tool for auditing spelling\, ac
 cessibility compliance and broken links on your website.&amp;nbsp\;&lt;/li&gt;\n&lt;li
 &gt;Tips for making your website usable and accessible for all (including se
 arch engines).&amp;nbsp\;&lt;/li&gt;\n&lt;/ul&gt;\n&lt;p&gt;Registration is required at My Lear
 ning Connection in my.missouristate.edu.&lt;/p&gt;\n&lt;ul&gt;\n&lt;li&gt;Go to your profil
 e tab.&lt;/li&gt;\n&lt;li&gt;Find the Professional Development box.&lt;/li&gt;\n&lt;li&gt;Select 
 My Learning Connection.&lt;/li&gt;\n&lt;li&gt;Search for this session.&lt;/li&gt;\n&lt;li&gt;Sign
  up.&lt;/li&gt;\n&lt;/ul&gt;&lt;/body&gt;&lt;/html&gt;
DTSTART;TZID=America/Chicago:20220331T110000
DTEND;TZID=America/Chicago:20220331T120000
SEQUENCE:0
URL:115584.jpg
CATEGORIES:Faculty,Staff
END:VEVENT
END:VCALENDAR