BEGIN:VCALENDAR
VERSION:2.0
METHOD:PUBLISH
PRODID:-//Missouri State University/Calendar of Events//EN
CALSCALE:GREGORIAN
X-WR-TIMEZONE:America/Chicago
BEGIN:VTIMEZONE
TZID:America/Chicago
BEGIN:DAYLIGHT
TZOFFSETFROM:-0600
TZOFFSETTO:-0500
DTSTART:20070311T020000
RRULE:FREQ=YEARLY;BYMONTH=3;BYDAY=2SU
TZNAME:CDT
END:DAYLIGHT
BEGIN:STANDARD
TZOFFSETFROM:-0500
TZOFFSETTO:-0600
DTSTART:20071104T020000
RRULE:FREQ=YEARLY;BYMONTH=11;BYDAY=1SU
TZNAME:CST
END:STANDARD
END:VTIMEZONE
BEGIN:VEVENT
UID:9ccb5f6b-7db4-4524-a33c-a69028790c01.220177@calendar.missouristate.edu
CREATED:20220216T212059Z
LAST-MODIFIED:20220216T212059Z
LOCATION:Glass Hall\, David D. 108
SUMMARY:MarCom Training Week 2022: Mastering the media
DESCRIPTION:Preparation and practice are key to achieving successful media
  interviews. A strong appearance in a newspaper article or on a TV piece 
 reflects well not only on you\, but also your department and the universi
 ty as a whole. In this media training\, you'll:\n\n\n\nLearn tools and st
 rategies to become more media savvy and handle media interviews like a pr
 o. \nGain valuable tips and advice from dietetics faculty expert and regi
 stered dietitian Natalie Allen. Allen has done numerous interviews across
  all mediums for local\, regional and national media outlets. \n\nRegistr
 ation is required at My Learning Connection in my.missouristate.edu.\n\n\
 n\nGo to your profile tab.\nFind the Professional Development box.\nSelec
 t My Learning Connection.\nSearch for this session.\nSign up.
X-ALT-DESC;FMTTYPE=text/html:&lt;html&gt;&lt;head&gt;&lt;title&gt;&lt;/title&gt;&lt;/head&gt;&lt;body&gt;&lt;p&gt;Pr
 eparation and practice are key to achieving successful media interviews. 
 A strong appearance in a newspaper article or on a TV piece reflects well
  not only on you\, but also your department and the university as a whole
 . In this media training\, you'll:&lt;/p&gt;\n&lt;ul&gt;\n&lt;li&gt;Learn tools and strateg
 ies to become more media savvy and handle media interviews like a pro.&amp;nb
 sp\;&lt;/li&gt;\n&lt;li&gt;Gain valuable tips and advice from dietetics faculty exper
 t and registered dietitian Natalie Allen. Allen has done numerous intervi
 ews across all mediums for local\, regional and national media outlets.&amp;n
 bsp\;&lt;/li&gt;\n&lt;/ul&gt;\n&lt;p&gt;Registration is required at My Learning Connection 
 in my.missouristate.edu.&lt;/p&gt;\n&lt;ul&gt;\n&lt;li&gt;Go to your profile tab.&lt;/li&gt;\n&lt;li
 &gt;Find the Professional Development box.&lt;/li&gt;\n&lt;li&gt;Select My Learning Conn
 ection.&lt;/li&gt;\n&lt;li&gt;Search for this session.&lt;/li&gt;\n&lt;li&gt;Sign up.&lt;/li&gt;\n&lt;/ul&gt;
 &lt;/body&gt;&lt;/html&gt;
DTSTART;TZID=America/Chicago:20220401T100000
DTEND;TZID=America/Chicago:20220401T120000
SEQUENCE:0
URL:115585.jpg
CATEGORIES:Faculty,Staff
END:VEVENT
END:VCALENDAR