BEGIN:VCALENDAR
VERSION:2.0
METHOD:PUBLISH
PRODID:-//Missouri State University/Calendar of Events//EN
CALSCALE:GREGORIAN
X-WR-TIMEZONE:America/Chicago
BEGIN:VTIMEZONE
TZID:America/Chicago
BEGIN:DAYLIGHT
TZOFFSETFROM:-0600
TZOFFSETTO:-0500
DTSTART:20070311T020000
RRULE:FREQ=YEARLY;BYMONTH=3;BYDAY=2SU
TZNAME:CDT
END:DAYLIGHT
BEGIN:STANDARD
TZOFFSETFROM:-0500
TZOFFSETTO:-0600
DTSTART:20071104T020000
RRULE:FREQ=YEARLY;BYMONTH=11;BYDAY=1SU
TZNAME:CST
END:STANDARD
END:VTIMEZONE
BEGIN:VEVENT
UID:59bb348e-8c6c-4420-b7d6-fa72d194113f.220216@calendar.missouristate.edu
CREATED:20220222T231137Z
LAST-MODIFIED:20220222T231137Z
LOCATION:Roy Blunt Hall 002 Lecture Hall
SUMMARY:GGP Seminar: Dr. Aída Guhlincozzi - "Qualitative GIScience and Lat
 ina Health Geographies in the Chicago Suburbs"
DESCRIPTION:Dr. Aída Guhlincozzi\, post-doctoral future faculty scholar\, 
 University of Missouri\, will present her research. She will address the 
 question\, "How accessible is linguistically-appropriate health care to L
 atina women in suburban landscapes that were historically white and Engli
 sh-speaking?" Using survey research and network analysis\, this paper pre
 sents the ways the varying identity factors of Latinas - particularly gen
 der role in household\, ethno-national identity\, linguistic identity\, a
 nd immigration status - traverse known health care access barriers. Ident
 ity is defined as "...a socially structured and historically informed pro
 cess in relation to the U.S. nation-state and its citizens" (Hester\, 201
 5). Focusing on what access looks like for Latina women\, this project ex
 pands the linkages between these identities and the types of access assoc
 iated with health care - availability\, acceptability\, accessibility\, a
 ffordability and accommodation. With a case study in neighborhoods throug
 hout suburban Chicago\, this project takes steps forward in the process o
 f disaggregating the monolithic identity of "Latinas" and exploring how t
 hese differences lead to varying levels of health care access. This paper
  suggests specific interventions for structural barrier-reduction to bett
 er serve minoritized communities\, instead of a monolithic-Latina approac
 h.\n\n\nGuhlincozzi is in the departments of Geography and Women's and Ge
 nder Studies. She uses mixed methods in her research on health care acces
 sibility to linguistically-appropriate physicians for Latinas\, and immig
 rant and Latinx health geographies. Her research uses a culmination of in
 terviews\, surveys and GIS analysis. The spatial mismatch of health care 
 access to Spanish-speaking physicians in the suburbs was recently publish
 ed in the Journal of Latin American Geography\, October 2020 issue\, enti
 tled "Buscando el cuidado': Spatial mismatch of physician services in Spa
 nish for Latinxs in suburban Chicago." During the summer of 2019\, she co
 -founded and co-led a camp for middle school girls of color. She is a fou
 nding board member of the AAG Latinx Geographies Specialty Group\, and a 
 co-author of a chapter on Quantitative Methods in the book\, COVID-19 and
  Similar Futures: Geographical Perspectives\, Issues\, and Agendas.
X-ALT-DESC;FMTTYPE=text/html:&lt;html&gt;&lt;head&gt;&lt;title&gt;&lt;/title&gt;&lt;/head&gt;&lt;body&gt;&lt;p&gt;Dr
 . Aída Guhlincozzi\, post-doctoral future faculty scholar\, University of
  Missouri\, will present her research. She will address the question\, "H
 ow accessible is linguistically-appropriate health care to Latina women i
 n suburban landscapes that were historically white and English-speaking?"
  Using survey research and network analysis\, this paper presents the way
 s the varying identity factors of Latinas - particularly gender role in h
 ousehold\, ethno-national identity\, linguistic identity\, and immigratio
 n status - traverse known health care access barriers. Identity is define
 d as "...a socially structured and historically informed process in relat
 ion to the U.S. nation-state and its citizens" (Hester\, 2015). Focusing 
 on what access looks like for Latina women\, this project expands the lin
 kages between these identities and the types of access associated with he
 alth care - availability\, acceptability\, accessibility\, affordability 
 and accommodation. With a case study in neighborhoods throughout suburban
  Chicago\, this project takes steps forward in the process of disaggregat
 ing the monolithic identity of "Latinas" and exploring how these differen
 ces lead to varying levels of health care access. This paper suggests spe
 cific interventions for structural barrier-reduction to better serve mino
 ritized communities\, instead of a monolithic-Latina approach.&lt;/p&gt;\n&lt;p&gt;Gu
 hlincozzi is in the departments of Geography and Women's and Gender Studi
 es. She uses mixed methods in her research on health care accessibility t
 o linguistically-appropriate physicians for Latinas\, and immigrant and L
 atinx health geographies. Her research uses a culmination of interviews\,
  surveys and GIS analysis. The spatial mismatch of health care access to 
 Spanish-speaking physicians in the suburbs was recently published in the 
 Journal of Latin American Geography\, October 2020 issue\, entitled "Busc
 ando el cuidado': Spatial mismatch of physician services in Spanish for L
 atinxs in suburban Chicago."&lt;em&gt; &lt;/em&gt;During the summer of 2019\, she co-
 founded and co-led a camp for middle school girls of color. She is a foun
 ding board member of the AAG Latinx Geographies Specialty Group\, and a c
 o-author of a chapter on Quantitative Methods in the book\, COVID-19 and 
 Similar Futures: Geographical Perspectives\, Issues\, and Agendas&lt;em&gt;.&lt;/e
 m&gt;&lt;/p&gt;&lt;/body&gt;&lt;/html&gt;
DTSTART;TZID=America/Chicago:20220401T143000
DTEND;TZID=America/Chicago:20220401T153000
SEQUENCE:0
URL:http://www.geosciences.MissouriState.edu
CATEGORIES:Public,Alumni,Current Students,Faculty,Future Students
END:VEVENT
END:VCALENDAR