BEGIN:VCALENDAR
VERSION:2.0
METHOD:PUBLISH
PRODID:-//Missouri State University/Calendar of Events//EN
CALSCALE:GREGORIAN
X-WR-TIMEZONE:America/Chicago
BEGIN:VTIMEZONE
TZID:America/Chicago
BEGIN:DAYLIGHT
TZOFFSETFROM:-0600
TZOFFSETTO:-0500
DTSTART:20070311T020000
RRULE:FREQ=YEARLY;BYMONTH=3;BYDAY=2SU
TZNAME:CDT
END:DAYLIGHT
BEGIN:STANDARD
TZOFFSETFROM:-0500
TZOFFSETTO:-0600
DTSTART:20071104T020000
RRULE:FREQ=YEARLY;BYMONTH=11;BYDAY=1SU
TZNAME:CST
END:STANDARD
END:VTIMEZONE
BEGIN:VEVENT
UID:7d4146e7-24a9-440e-99e6-8842971e5fb5.220238@calendar.missouristate.edu
CREATED:20220328T223340Z
LAST-MODIFIED:20220328T223340Z
LOCATION:Hammons Student Center\, John Q.
SUMMARY:Staff Awards Luncheon
DESCRIPTION:The Service Awards program honors three categories of staff em
 ployees: those who have reached a five-year longevity milestone in their 
 years of service to the university\, those who have been selected for the
  Staff Excellence in University Service Award and those who have been sel
 ected for the Staff Excellence in Community Service Award.Special round t
 rip express shuttles marked “Staff Appreciation Lunch” will operate from 
 11 a.m.-2 p.m. running from Carrington Hall to Hammons Student Center wit
 h a stop at Glass Hall\; and from the Park Central Office Building to Ham
 mons Student Center with a stop at the Morris Center.Attendees are encour
 aged to wear Bearwear.
X-ALT-DESC;FMTTYPE=text/html:&lt;html&gt;&lt;head&gt;&lt;title&gt;&lt;/title&gt;&lt;/head&gt;&lt;body&gt;&lt;p&gt;Th
 e Service Awards program honors three categories of staff employees: thos
 e who have reached a five-year longevity milestone in their years of serv
 ice to the university\, those who have been selected for the Staff Excell
 ence in University Service Award and those who have been selected for the
  Staff Excellence in Community Service Award.&lt;br&gt;&lt;br&gt;Special round trip e
 xpress shuttles marked “Staff Appreciation Lunch” will operate from 11 a.
 m.-2 p.m. running from Carrington Hall to Hammons Student Center with a s
 top at Glass Hall\; and from the Park Central Office Building to Hammons 
 Student Center with a stop at the Morris Center.&lt;br&gt;&lt;br&gt;Attendees are enc
 ouraged to wear Bearwear.&lt;/p&gt;&lt;/body&gt;&lt;/html&gt;
DTSTART;TZID=America/Chicago:20220614T113000
DTEND;TZID=America/Chicago:20220614T133000
SEQUENCE:0
URL:115639.jpg
CATEGORIES:Staff
END:VEVENT
END:VCALENDAR