BEGIN:VCALENDAR
VERSION:2.0
METHOD:PUBLISH
PRODID:-//Missouri State University/Calendar of Events//EN
CALSCALE:GREGORIAN
X-WR-TIMEZONE:America/Chicago
BEGIN:VTIMEZONE
TZID:America/Chicago
BEGIN:DAYLIGHT
TZOFFSETFROM:-0600
TZOFFSETTO:-0500
DTSTART:20070311T020000
RRULE:FREQ=YEARLY;BYMONTH=3;BYDAY=2SU
TZNAME:CDT
END:DAYLIGHT
BEGIN:STANDARD
TZOFFSETFROM:-0500
TZOFFSETTO:-0600
DTSTART:20071104T020000
RRULE:FREQ=YEARLY;BYMONTH=11;BYDAY=1SU
TZNAME:CST
END:STANDARD
END:VTIMEZONE
BEGIN:VEVENT
UID:0996adf1-e202-4d8b-ad9a-e6d1bb33d5cd.220262@calendar.missouristate.edu
CREATED:20220301T221040Z
LAST-MODIFIED:20220301T221040Z
LOCATION:Hammons Hall for the Performing Arts\, Juanita K.
SUMMARY:SAC Presents: Spring Concert with Yung Gravy
DESCRIPTION:Yung Gravy is coming to campus! Along with opener IDK\, come e
 njoy a concert that you will never forget!\n\n\nTickets for MSU students:
  $10 (with Bearpass)\n\n\nTickets for the public: $20 (The public can get
  their tickets online.)\n\n\nGet your tickets at Juanita K. Hammons Hall\
 , JQH Arena\, or Craig Hall Box Offices. 
X-ALT-DESC;FMTTYPE=text/html:&lt;html&gt;&lt;head&gt;&lt;title&gt;&lt;/title&gt;&lt;/head&gt;&lt;body&gt;&lt;p&gt;Yu
 ng Gravy is coming to campus! Along with opener IDK\, come enjoy a concer
 t that you will never forget!&lt;/p&gt;\n&lt;p&gt;Tickets for MSU students: $10 (with
  Bearpass)&lt;/p&gt;\n&lt;p&gt;Tickets for the public: $20 (The public can get their 
 tickets online.)&lt;/p&gt;\n&lt;p&gt;Get your tickets at Juanita K. Hammons Hall\, JQ
 H Arena\, or Craig Hall Box Offices.&amp;nbsp\;&lt;/p&gt;&lt;/body&gt;&lt;/html&gt;
DTSTART;TZID=America/Chicago:20220420T190000
DTEND;TZID=America/Chicago:20220420T220000
SEQUENCE:0
URL:115658.jpg
CATEGORIES:Public,Alumni,Current Students,Faculty,Staff
END:VEVENT
END:VCALENDAR