BEGIN:VCALENDAR
VERSION:2.0
METHOD:PUBLISH
PRODID:-//Missouri State University/Calendar of Events//EN
CALSCALE:GREGORIAN
X-WR-TIMEZONE:America/Chicago
BEGIN:VTIMEZONE
TZID:America/Chicago
BEGIN:DAYLIGHT
TZOFFSETFROM:-0600
TZOFFSETTO:-0500
DTSTART:20070311T020000
RRULE:FREQ=YEARLY;BYMONTH=3;BYDAY=2SU
TZNAME:CDT
END:DAYLIGHT
BEGIN:STANDARD
TZOFFSETFROM:-0500
TZOFFSETTO:-0600
DTSTART:20071104T020000
RRULE:FREQ=YEARLY;BYMONTH=11;BYDAY=1SU
TZNAME:CST
END:STANDARD
END:VTIMEZONE
BEGIN:VEVENT
UID:86f610f9-d1e4-49f6-9fe8-9d48e9a77f8f.220276@calendar.missouristate.edu
CREATED:20220302T231743Z
LAST-MODIFIED:20220302T231743Z
LOCATION:Ellis Hall / C. Minor Recital Hall
SUMMARY:Low Brass Day Guest Recital
DESCRIPTION:The MSU Music Department invites you to join us for a performa
 nce featuring a guest artist for Low Brass Day. For more information\, pl
 ease communicate with the event contact.\n\n\n*Please note\, masks are re
 commended in Ellis Hall.
X-ALT-DESC;FMTTYPE=text/html:&lt;html&gt;&lt;head&gt;&lt;title&gt;&lt;/title&gt;&lt;/head&gt;&lt;body&gt;&lt;p&gt;Th
 e MSU Music Department invites you to join us for a performance featuring
  a guest artist for Low Brass Day. For more information\, please communic
 ate with the event contact.&lt;/p&gt;\n&lt;p&gt;*Please note\, masks are recommended 
 in Ellis Hall.&lt;/p&gt;&lt;/body&gt;&lt;/html&gt;
DTSTART;TZID=America/Chicago:20220326T173000
DTEND;TZID=America/Chicago:20220326T183000
SEQUENCE:0
URL:
CATEGORIES:Public,Alumni,Current Students,Faculty,Future Students
END:VEVENT
END:VCALENDAR