BEGIN:VCALENDAR
VERSION:2.0
METHOD:PUBLISH
PRODID:-//Missouri State University/Calendar of Events//EN
CALSCALE:GREGORIAN
X-WR-TIMEZONE:America/Chicago
BEGIN:VTIMEZONE
TZID:America/Chicago
BEGIN:DAYLIGHT
TZOFFSETFROM:-0600
TZOFFSETTO:-0500
DTSTART:20070311T020000
RRULE:FREQ=YEARLY;BYMONTH=3;BYDAY=2SU
TZNAME:CDT
END:DAYLIGHT
BEGIN:STANDARD
TZOFFSETFROM:-0500
TZOFFSETTO:-0600
DTSTART:20071104T020000
RRULE:FREQ=YEARLY;BYMONTH=11;BYDAY=1SU
TZNAME:CST
END:STANDARD
END:VTIMEZONE
BEGIN:VEVENT
UID:ae189506-eb2c-4c71-ae5d-2ae7a49d864c.220278@calendar.missouristate.edu
CREATED:20220303T180529Z
LAST-MODIFIED:20220303T180529Z
LOCATION:
SUMMARY:Effective Listening
DESCRIPTION:Good listeners have deeper\, stronger and better relationships
  at work\, at home and with friends. This workshop will explain why liste
 ning is important\, help you figure out what type of listener you are and
  teach you the necessary skills to become a more effective listener.\n\n\
 nJoin us for this two-hour workshop! This workshop will be delivered via 
 Zoom.\n\n\nFacilitator: Gloria Galanes\, MSU dean emeritus
X-ALT-DESC;FMTTYPE=text/html:&lt;html&gt;&lt;head&gt;&lt;title&gt;&lt;/title&gt;&lt;/head&gt;&lt;body&gt;&lt;p&gt;Go
 od listeners have deeper\, stronger and better relationships at work\, at
  home and with friends. This workshop will explain why listening is impor
 tant\, help you figure out what type of listener you are and teach you th
 e necessary skills to become a more effective listener.&lt;/p&gt;\n&lt;p&gt;Join us f
 or this two-hour workshop! This workshop will be delivered via Zoom.&lt;/p&gt;\
 n&lt;p&gt;Facilitator: Gloria Galanes\, MSU dean emeritus&lt;/p&gt;&lt;/body&gt;&lt;/html&gt;
DTSTART;TZID=America/Chicago:20220328T130000
DTEND;TZID=America/Chicago:20220328T150000
SEQUENCE:1
URL:115667.jpg
CATEGORIES:Faculty,Staff
END:VEVENT
END:VCALENDAR