BEGIN:VCALENDAR
VERSION:2.0
METHOD:PUBLISH
PRODID:-//Missouri State University/Calendar of Events//EN
CALSCALE:GREGORIAN
X-WR-TIMEZONE:America/Chicago
BEGIN:VTIMEZONE
TZID:America/Chicago
BEGIN:DAYLIGHT
TZOFFSETFROM:-0600
TZOFFSETTO:-0500
DTSTART:20070311T020000
RRULE:FREQ=YEARLY;BYMONTH=3;BYDAY=2SU
TZNAME:CDT
END:DAYLIGHT
BEGIN:STANDARD
TZOFFSETFROM:-0500
TZOFFSETTO:-0600
DTSTART:20071104T020000
RRULE:FREQ=YEARLY;BYMONTH=11;BYDAY=1SU
TZNAME:CST
END:STANDARD
END:VTIMEZONE
BEGIN:VEVENT
UID:54eeafc4-f6f4-493e-945b-040929afb5cc.220284@calendar.missouristate.edu
CREATED:20220304T161126Z
LAST-MODIFIED:20220304T161126Z
LOCATION:Meyer Library\, Duane G.
SUMMARY:Panel Discussion: Giraffe-Style Stone Architecture in the Ozarks
DESCRIPTION:The Ozarks Studies Institute\, an initiative of the Missouri S
 tate University Libraries\, will host a one-hour virtual panel discussion
  on giraffe-style stone architecture in the Ozarks. The event is free and
  open to the public. Guests can join the conversation via Zoom.\n\n\nThe 
 discussion will welcome the following panelists:\n\n\n\nGreg Herman\, ass
 ociate professor of architecture and director\, The Fay and Gus Jones Hou
 se Stewardship at the University of Arkansas\nMark Wheeler\, MSU architec
 t and director of Planning\, Design and Construction\nTom Peters\, MSU de
 an of library services and the director of the Ozarks program of the 2023
  Smithsonian Folklife Festival\n\nGiraffe architectural style gets its na
 me from multi-colored mortared stone arranged in patterns resembling a gi
 raffe’s coat. The materials used to build the design can be found through
 out the Ozarks region\, and giraffe-style architecture still exists throu
 ghout the region today. \n\n\nThis event is part of the university's scho
 larly content leading up to its participation in the 2023 Smithsonian Ins
 titution’s Folklife Festival. The festival will feature the history and c
 ulture of the Ozarks region\, presented in part by Missouri State\, on th
 e National Mall in Washington\, D.C. 
X-ALT-DESC;FMTTYPE=text/html:&lt;html&gt;&lt;head&gt;&lt;title&gt;&lt;/title&gt;&lt;/head&gt;&lt;body&gt;&lt;p&gt;Th
 e Ozarks Studies Institute\, an initiative of the Missouri State Universi
 ty Libraries\, will host a one-hour virtual panel discussion on giraffe-s
 tyle stone architecture in the Ozarks. The event is free and open to the 
 public. Guests can join the conversation via&amp;nbsp\;&lt;a href="https://misso
 uristate.zoom.us/j/94069925227"&gt;&lt;span&gt;Zoom&lt;/span&gt;&lt;/a&gt;.&lt;/p&gt;\n&lt;p&gt;&lt;br&gt;The di
 scussion will welcome the following panelists:&lt;/p&gt;\n&lt;ul&gt;\n&lt;li&gt;Greg Herman
 \, associate professor of architecture and director\, The Fay and Gus Jon
 es House Stewardship at the University of Arkansas&lt;/li&gt;\n&lt;li&gt;Mark Wheeler
 \, MSU architect and director of Planning\, Design and Construction&lt;/li&gt;\
 n&lt;li&gt;Tom Peters\, MSU dean of library services and the director of the Oz
 arks program of the 2023 Smithsonian Folklife Festival&lt;/li&gt;\n&lt;/ul&gt;\n&lt;p&gt;Gi
 raffe architectural style gets its name from multi-colored mortared stone
  arranged in patterns resembling a giraffe’s coat. The materials used to 
 build the design can be found throughout the Ozarks region\, and giraffe-
 style architecture still exists throughout the region today.&amp;nbsp\;&lt;br&gt;&lt;b
 r&gt;&lt;/p&gt;\n&lt;p&gt;This event is part of the university's&amp;nbsp\;scholarly content
  leading up to its participation in the 2023 Smithsonian Institution’s Fo
 lklife Festival. The festival will feature the history and culture of the
  Ozarks region\, presented in part by Missouri State\, on the National Ma
 ll in Washington\, D.C.&amp;nbsp\;&lt;/p&gt;&lt;/body&gt;&lt;/html&gt;
DTSTART;TZID=America/Chicago:20220329T120000
DTEND;TZID=America/Chicago:20220329T130000
SEQUENCE:0
URL:115672.png
CATEGORIES:Public,Alumni,Current Students,Faculty,Staff
END:VEVENT
END:VCALENDAR