BEGIN:VCALENDAR
VERSION:2.0
METHOD:PUBLISH
PRODID:-//Missouri State University/Calendar of Events//EN
CALSCALE:GREGORIAN
X-WR-TIMEZONE:America/Chicago
BEGIN:VTIMEZONE
TZID:America/Chicago
BEGIN:DAYLIGHT
TZOFFSETFROM:-0600
TZOFFSETTO:-0500
DTSTART:20070311T020000
RRULE:FREQ=YEARLY;BYMONTH=3;BYDAY=2SU
TZNAME:CDT
END:DAYLIGHT
BEGIN:STANDARD
TZOFFSETFROM:-0500
TZOFFSETTO:-0600
DTSTART:20071104T020000
RRULE:FREQ=YEARLY;BYMONTH=11;BYDAY=1SU
TZNAME:CST
END:STANDARD
END:VTIMEZONE
BEGIN:VEVENT
UID:45c33483-d809-4d04-a766-35d7a1c87d8c.220285@calendar.missouristate.edu
CREATED:20220405T145224Z
LAST-MODIFIED:20220405T145224Z
LOCATION:Plaster Student Union\, Robert W. 400
SUMMARY:President's Diversity Council
DESCRIPTION:The topic: "The Impact of the Pandemic on Learning\, Social In
 teraction and Mental Health."\n\n\nGuest speakers: Dr. Algerian Hart\, as
 sistant director of the Graduate College\, Dr. Stephen Spates\, professor
 \, and Nia Morgan\, clinician. \n\n\nJoin this in-person event in PSU 400
 \, or join via Zoom.
X-ALT-DESC;FMTTYPE=text/html:&lt;html&gt;&lt;head&gt;&lt;title&gt;&lt;/title&gt;&lt;/head&gt;&lt;body&gt;&lt;p&gt;Th
 e topic: "The Impact of the Pandemic on Learning\, Social Interaction and
  Mental Health."&lt;/p&gt;\n&lt;p&gt;Guest speakers: Dr. Algerian Hart\, assistant di
 rector of the Graduate College\, Dr. Stephen Spates\, professor\, and Nia
  Morgan\, clinician.&amp;nbsp\;&lt;/p&gt;\n&lt;p&gt;&lt;strong&gt;Join this in-person event in 
 PSU 400\,&lt;/strong&gt; or&amp;nbsp\;&lt;a href="https://missouristate.zoom.us/j/9157
 8441563"&gt;join via Zoom&lt;/a&gt;.&lt;/p&gt;&lt;/body&gt;&lt;/html&gt;
DTSTART;TZID=America/Chicago:20220412T153000
DTEND;TZID=America/Chicago:20220412T173000
SEQUENCE:0
URL:
CATEGORIES:Current Students,Faculty,Staff
END:VEVENT
END:VCALENDAR