BEGIN:VCALENDAR
VERSION:2.0
METHOD:PUBLISH
PRODID:-//Missouri State University/Calendar of Events//EN
CALSCALE:GREGORIAN
X-WR-TIMEZONE:America/Chicago
BEGIN:VTIMEZONE
TZID:America/Chicago
BEGIN:DAYLIGHT
TZOFFSETFROM:-0600
TZOFFSETTO:-0500
DTSTART:20070311T020000
RRULE:FREQ=YEARLY;BYMONTH=3;BYDAY=2SU
TZNAME:CDT
END:DAYLIGHT
BEGIN:STANDARD
TZOFFSETFROM:-0500
TZOFFSETTO:-0600
DTSTART:20071104T020000
RRULE:FREQ=YEARLY;BYMONTH=11;BYDAY=1SU
TZNAME:CST
END:STANDARD
END:VTIMEZONE
BEGIN:VEVENT
UID:8f516642-7b03-4fab-b7dd-55b162952ff2.220292@calendar.missouristate.edu
CREATED:20220307T191533Z
LAST-MODIFIED:20220307T191533Z
LOCATION:
SUMMARY:Conversations with Library Services
DESCRIPTION:Join host\, Greg Fansler as he speaks with Thomas Peters\, dea
 n of Library Services.\n\n\nConversations with the College is a webinar s
 eries created for alumni and friends to hear directly from the department
  or college about current goals\, unique challenges and opportunities.
X-ALT-DESC;FMTTYPE=text/html:&lt;html&gt;&lt;head&gt;&lt;title&gt;&lt;/title&gt;&lt;/head&gt;&lt;body&gt;&lt;p ti
 tle=""&gt;Join host\, Greg Fansler as he speaks with Thomas Peters\, dean of
  Library Services.&lt;/p&gt;\n&lt;p title=""&gt;Conversations with the College is a w
 ebinar series created for alumni and friends to hear directly from the de
 partment or college about current goals\, unique challenges and opportuni
 ties.&lt;/p&gt;\n&lt;p&gt;&lt;/p&gt;&lt;/body&gt;&lt;/html&gt;
DTSTART;TZID=America/Chicago:20220405T120000
DTEND;TZID=America/Chicago:20220405T220000
SEQUENCE:0
URL:https://maroonation.missouristate.edu/s/1691/start.aspx?sid=1691&amp;gid=2
 &amp;pgid=2738&amp;content_id=2454
CATEGORIES:Public,Alumni,Current Students,Faculty,Future Students,Staff
END:VEVENT
END:VCALENDAR